BEGIN:VCALENDAR
VERSION:2.0
PRODID:-//RetroMania Talent - ECPv6.15.20//NONSGML v1.0//EN
CALSCALE:GREGORIAN
METHOD:PUBLISH
X-ORIGINAL-URL:https://retromaniatalent.com
X-WR-CALDESC:Events for RetroMania Talent
REFRESH-INTERVAL;VALUE=DURATION:PT1H
X-Robots-Tag:noindex
X-PUBLISHED-TTL:PT1H
BEGIN:VTIMEZONE
TZID:America/Denver
BEGIN:DAYLIGHT
TZOFFSETFROM:-0700
TZOFFSETTO:-0600
TZNAME:MDT
DTSTART:20230312T090000
END:DAYLIGHT
BEGIN:STANDARD
TZOFFSETFROM:-0600
TZOFFSETTO:-0700
TZNAME:MST
DTSTART:20231105T080000
END:STANDARD
BEGIN:DAYLIGHT
TZOFFSETFROM:-0700
TZOFFSETTO:-0600
TZNAME:MDT
DTSTART:20240310T090000
END:DAYLIGHT
BEGIN:STANDARD
TZOFFSETFROM:-0600
TZOFFSETTO:-0700
TZNAME:MST
DTSTART:20241103T080000
END:STANDARD
BEGIN:DAYLIGHT
TZOFFSETFROM:-0700
TZOFFSETTO:-0600
TZNAME:MDT
DTSTART:20250309T090000
END:DAYLIGHT
BEGIN:STANDARD
TZOFFSETFROM:-0600
TZOFFSETTO:-0700
TZNAME:MST
DTSTART:20251102T080000
END:STANDARD
END:VTIMEZONE
BEGIN:VEVENT
DTSTART;TZID=America/Denver:20241026T190000
DTEND;TZID=America/Denver:20241026T190000
DTSTAMP:20260424T052406
CREATED:20241003T201318Z
LAST-MODIFIED:20241018T215401Z
UID:7362-1729969200-1729969200@retromaniatalent.com
SUMMARY:Boogie Machine @ Denver Elks Halloween Party
DESCRIPTION:Whether this is your regular haunt or you’re darkening our door for the first time\, we welcome you into the spooktacle that is Halloween at Denver 17. Be ready to dress up and boogie down. We’ll have live music from Denver’s 70s Disco Tribute Band\, Boogie Machine. If that’s not your scene\, head upstairs for some 80s vinyl or a little silent disco. Join us at 2475 W 26th Ave on October 26th for a night filled with costumes\, music\, and fun! All with the best view of the Denver downtown skyline around! \nFirst 50 tickets receive $15 off with CODE: BANDMATE \n  \nShare this:\n				Share on Facebook (Opens in new window)\n				Facebook\n			\n				Share on X (Opens in new window)\n				X\n			\n				Share on Pinterest (Opens in new window)\n				Pinterest\n			\n				Share on LinkedIn (Opens in new window)\n				LinkedIn\n			\n				Share on Reddit (Opens in new window)\n				Reddit\n			\n				Share on Tumblr (Opens in new window)\n				Tumblr\n			\n				Email a link to a friend (Opens in new window)\n				Email\n			\n				Print (Opens in new window)\n				Print\n			Like this:Like Loading...
URL:https://retromaniatalent.com/event/boogie-machine-denver-elks-halloween-party/
LOCATION:Denver Elks #17\, 2475 W 26th Ave.\, Denver\, Colorado
CATEGORIES:Boogie Machine
END:VEVENT
END:VCALENDAR