BEGIN:VCALENDAR
VERSION:2.0
PRODID:-//RetroMania Talent - ECPv6.15.20//NONSGML v1.0//EN
CALSCALE:GREGORIAN
METHOD:PUBLISH
X-ORIGINAL-URL:https://retromaniatalent.com
X-WR-CALDESC:Events for RetroMania Talent
REFRESH-INTERVAL;VALUE=DURATION:PT1H
X-Robots-Tag:noindex
X-PUBLISHED-TTL:PT1H
BEGIN:VTIMEZONE
TZID:America/Denver
BEGIN:DAYLIGHT
TZOFFSETFROM:-0700
TZOFFSETTO:-0600
TZNAME:MDT
DTSTART:20240310T090000
END:DAYLIGHT
BEGIN:STANDARD
TZOFFSETFROM:-0600
TZOFFSETTO:-0700
TZNAME:MST
DTSTART:20241103T080000
END:STANDARD
BEGIN:DAYLIGHT
TZOFFSETFROM:-0700
TZOFFSETTO:-0600
TZNAME:MDT
DTSTART:20250309T090000
END:DAYLIGHT
BEGIN:STANDARD
TZOFFSETFROM:-0600
TZOFFSETTO:-0700
TZNAME:MST
DTSTART:20251102T080000
END:STANDARD
BEGIN:DAYLIGHT
TZOFFSETFROM:-0700
TZOFFSETTO:-0600
TZNAME:MDT
DTSTART:20260308T090000
END:DAYLIGHT
BEGIN:STANDARD
TZOFFSETFROM:-0600
TZOFFSETTO:-0700
TZNAME:MST
DTSTART:20261101T080000
END:STANDARD
END:VTIMEZONE
BEGIN:VEVENT
DTSTART;TZID=America/Denver:20251231T200000
DTEND;TZID=America/Denver:20251231T210000
DTSTAMP:20260423T124018
CREATED:20250708T015936Z
LAST-MODIFIED:20251210T202516Z
UID:8010-1767211200-1767214800@retromaniatalent.com
SUMMARY:Boogie Machine @ The Brown Palace
DESCRIPTION:Celebrate Midnight at The Brown\, an elegant New Year’s Eve affair set beneath our iconic atrium. Enjoy an evening of live music\, dancing\, and timeless celebration as we welcome 2026 in true Brown Palace style. \nEvent Details: \n8:00 PM – 1:00 AM \nWelcome glass of champagne upon arrival \nLive Music by Ronnie Raygun’s Boogie Machine \nDancing \nSmall bites throughout the evening \nMidnight champagne toast \nCash bars available \n**21+ only \nAdditional Information\n*Complimentary access for hotel guests and Palace Arms dinner reservations. \n\n  \nShare this:\n				Share on Facebook (Opens in new window)\n				Facebook\n			\n				Share on X (Opens in new window)\n				X\n			\n				Share on Pinterest (Opens in new window)\n				Pinterest\n			\n				Share on LinkedIn (Opens in new window)\n				LinkedIn\n			\n				Share on Reddit (Opens in new window)\n				Reddit\n			\n				Share on Tumblr (Opens in new window)\n				Tumblr\n			\n				Email a link to a friend (Opens in new window)\n				Email\n			\n				Print (Opens in new window)\n				Print\n			Like this:Like Loading...
URL:https://retromaniatalent.com/event/boogie-machine-the-brown-palace/
LOCATION:Brown Palace\, 321 17th St.\, Denver\, Colorado
CATEGORIES:Boogie Machine
END:VEVENT
END:VCALENDAR