BEGIN:VCALENDAR
VERSION:2.0
PRODID:-//RetroMania Talent - ECPv6.15.20//NONSGML v1.0//EN
CALSCALE:GREGORIAN
METHOD:PUBLISH
X-ORIGINAL-URL:https://retromaniatalent.com
X-WR-CALDESC:Events for RetroMania Talent
REFRESH-INTERVAL;VALUE=DURATION:PT1H
X-Robots-Tag:noindex
X-PUBLISHED-TTL:PT1H
BEGIN:VTIMEZONE
TZID:America/Denver
BEGIN:DAYLIGHT
TZOFFSETFROM:-0700
TZOFFSETTO:-0600
TZNAME:MDT
DTSTART:20250309T090000
END:DAYLIGHT
BEGIN:STANDARD
TZOFFSETFROM:-0600
TZOFFSETTO:-0700
TZNAME:MST
DTSTART:20251102T080000
END:STANDARD
BEGIN:DAYLIGHT
TZOFFSETFROM:-0700
TZOFFSETTO:-0600
TZNAME:MDT
DTSTART:20260308T090000
END:DAYLIGHT
BEGIN:STANDARD
TZOFFSETFROM:-0600
TZOFFSETTO:-0700
TZNAME:MST
DTSTART:20261101T080000
END:STANDARD
BEGIN:DAYLIGHT
TZOFFSETFROM:-0700
TZOFFSETTO:-0600
TZNAME:MDT
DTSTART:20270314T090000
END:DAYLIGHT
BEGIN:STANDARD
TZOFFSETFROM:-0600
TZOFFSETTO:-0700
TZNAME:MST
DTSTART:20271107T080000
END:STANDARD
END:VTIMEZONE
BEGIN:VEVENT
DTSTART;TZID=America/Denver:20260328T180000
DTEND;TZID=America/Denver:20260328T230000
DTSTAMP:20260423T095353
CREATED:20260306T224734Z
LAST-MODIFIED:20260306T224734Z
UID:8644-1774720800-1774738800@retromaniatalent.com
SUMMARY:Boogie Machine @ Weld Food Bank - Stone Soup 2026
DESCRIPTION:Weld Food Bank is bringing the sparkle of the 70’s to this year’s Stone Soup: \nGroovin’ Against Hunger. Island Grove Event Center will shine with dazzling décor\, funky rhythms\, and a dance floor that won’t quit. It will be a night of fun\, fashion\, and community as we groove together to fight hunger and create a brighter tomorrow. It would be our honor if you joined us by sponsoring and/or attending \nStone Soup on Saturday\, March 28\, 2026! \nShare this:\n				Share on Facebook (Opens in new window)\n				Facebook\n			\n				Share on X (Opens in new window)\n				X\n			\n				Share on Pinterest (Opens in new window)\n				Pinterest\n			\n				Share on LinkedIn (Opens in new window)\n				LinkedIn\n			\n				Share on Reddit (Opens in new window)\n				Reddit\n			\n				Share on Tumblr (Opens in new window)\n				Tumblr\n			\n				Email a link to a friend (Opens in new window)\n				Email\n			\n				Print (Opens in new window)\n				Print\n			Like this:Like Loading...
URL:https://retromaniatalent.com/event/boogie-machine-weld-food-bank-stone-soup-2026/
LOCATION:Island Grove Regional Park Event Center\, 501 N 14th Ave.\, Greeley\, Colorado
CATEGORIES:Boogie Machine
END:VEVENT
END:VCALENDAR