BEGIN:VCALENDAR
VERSION:2.0
PRODID:-//RetroMania Talent - ECPv6.15.20//NONSGML v1.0//EN
CALSCALE:GREGORIAN
METHOD:PUBLISH
X-WR-CALNAME:RetroMania Talent
X-ORIGINAL-URL:https://retromaniatalent.com
X-WR-CALDESC:Events for RetroMania Talent
REFRESH-INTERVAL;VALUE=DURATION:PT1H
X-Robots-Tag:noindex
X-PUBLISHED-TTL:PT1H
BEGIN:VTIMEZONE
TZID:America/Denver
BEGIN:DAYLIGHT
TZOFFSETFROM:-0700
TZOFFSETTO:-0600
TZNAME:MDT
DTSTART:20240310T090000
END:DAYLIGHT
BEGIN:STANDARD
TZOFFSETFROM:-0600
TZOFFSETTO:-0700
TZNAME:MST
DTSTART:20241103T080000
END:STANDARD
BEGIN:DAYLIGHT
TZOFFSETFROM:-0700
TZOFFSETTO:-0600
TZNAME:MDT
DTSTART:20250309T090000
END:DAYLIGHT
BEGIN:STANDARD
TZOFFSETFROM:-0600
TZOFFSETTO:-0700
TZNAME:MST
DTSTART:20251102T080000
END:STANDARD
BEGIN:DAYLIGHT
TZOFFSETFROM:-0700
TZOFFSETTO:-0600
TZNAME:MDT
DTSTART:20260308T090000
END:DAYLIGHT
BEGIN:STANDARD
TZOFFSETFROM:-0600
TZOFFSETTO:-0700
TZNAME:MST
DTSTART:20261101T080000
END:STANDARD
END:VTIMEZONE
BEGIN:VEVENT
DTSTART;TZID=America/Denver:20250801T170000
DTEND;TZID=America/Denver:20250801T210000
DTSTAMP:20260423T182901
CREATED:20250225T230638Z
LAST-MODIFIED:20250730T210249Z
UID:7558-1754067600-1754082000@retromaniatalent.com
SUMMARY:Boogie Machine @ Alf's Pub - Cheyenne
DESCRIPTION:Share this:\n				Share on Facebook (Opens in new window)\n				Facebook\n			\n				Share on X (Opens in new window)\n				X\n			\n				Share on Pinterest (Opens in new window)\n				Pinterest\n			\n				Share on LinkedIn (Opens in new window)\n				LinkedIn\n			\n				Share on Reddit (Opens in new window)\n				Reddit\n			\n				Share on Tumblr (Opens in new window)\n				Tumblr\n			\n				Email a link to a friend (Opens in new window)\n				Email\n			\n				Print (Opens in new window)\n				Print\n			Like this:Like Loading...
URL:https://retromaniatalent.com/event/boogie-machine-alfs-pub-cheyenne-2/
LOCATION:Alf’s Pub\, 1622 E 19th St\, Cheyenne\, Wyoming
CATEGORIES:Boogie Machine
END:VEVENT
BEGIN:VEVENT
DTSTART;TZID=America/Denver:20250808T194000
DTEND;TZID=America/Denver:20250808T212000
DTSTAMP:20260423T182901
CREATED:20250708T013509Z
LAST-MODIFIED:20250708T013509Z
UID:7996-1754682000-1754688000@retromaniatalent.com
SUMMARY:Boogie Machine @ Wheat Ridge Carnation Festival
DESCRIPTION:Share this:\n				Share on Facebook (Opens in new window)\n				Facebook\n			\n				Share on X (Opens in new window)\n				X\n			\n				Share on Pinterest (Opens in new window)\n				Pinterest\n			\n				Share on LinkedIn (Opens in new window)\n				LinkedIn\n			\n				Share on Reddit (Opens in new window)\n				Reddit\n			\n				Share on Tumblr (Opens in new window)\n				Tumblr\n			\n				Email a link to a friend (Opens in new window)\n				Email\n			\n				Print (Opens in new window)\n				Print\n			Like this:Like Loading...
URL:https://retromaniatalent.com/event/boogie-machine-wheat-ridge-carnation-festival/
LOCATION:Anderson Park\, 44th Ave & Field St.\, Wheat Ridge\, Colorado
CATEGORIES:Boogie Machine
END:VEVENT
BEGIN:VEVENT
DTSTART;VALUE=DATE:20250809
DTEND;VALUE=DATE:20250811
DTSTAMP:20260423T182901
CREATED:20250512T015056Z
LAST-MODIFIED:20250512T015056Z
UID:7781-1754708400-1754794799@retromaniatalent.com
SUMMARY:Boogie Machine @ Private Funktion
DESCRIPTION:Share this:\n				Share on Facebook (Opens in new window)\n				Facebook\n			\n				Share on X (Opens in new window)\n				X\n			\n				Share on Pinterest (Opens in new window)\n				Pinterest\n			\n				Share on LinkedIn (Opens in new window)\n				LinkedIn\n			\n				Share on Reddit (Opens in new window)\n				Reddit\n			\n				Share on Tumblr (Opens in new window)\n				Tumblr\n			\n				Email a link to a friend (Opens in new window)\n				Email\n			\n				Print (Opens in new window)\n				Print\n			Like this:Like Loading...
URL:https://retromaniatalent.com/event/boogie-machine-private-funktion-29/
LOCATION:Colorado
CATEGORIES:Boogie Machine
END:VEVENT
BEGIN:VEVENT
DTSTART;TZID=America/Denver:20250814T183000
DTEND;TZID=America/Denver:20250814T203000
DTSTAMP:20260423T182901
CREATED:20250512T015500Z
LAST-MODIFIED:20250512T015500Z
UID:7783-1755196200-1755203400@retromaniatalent.com
SUMMARY:Boogie Machine @ Town of Eagle Showdown
DESCRIPTION:KNOW BEFORE YOU GO:\n\nPicnics are welcome.\nBring a blanket or a chair so you can relax and enjoy the show.\nNo glass is allowed.\nOutside alcohol is allowed\, but limited to beer and wine only.\n\nABOUT EAGLE TOWN PARK:\nNestled in the center of town\, families can enjoy live music\, the playground\, basketball court\, horseshoe\, pits and picnic tables. \nShare this:\n				Share on Facebook (Opens in new window)\n				Facebook\n			\n				Share on X (Opens in new window)\n				X\n			\n				Share on Pinterest (Opens in new window)\n				Pinterest\n			\n				Share on LinkedIn (Opens in new window)\n				LinkedIn\n			\n				Share on Reddit (Opens in new window)\n				Reddit\n			\n				Share on Tumblr (Opens in new window)\n				Tumblr\n			\n				Email a link to a friend (Opens in new window)\n				Email\n			\n				Print (Opens in new window)\n				Print\n			Like this:Like Loading...
URL:https://retromaniatalent.com/event/boogie-machine-town-of-eagle-showdown/
LOCATION:Eagle Town Park\, 206 W Fifth St\, Eagle\, Colorado
CATEGORIES:Boogie Machine
END:VEVENT
BEGIN:VEVENT
DTSTART;TZID=America/Denver:20250817T170000
DTEND;TZID=America/Denver:20250817T190000
DTSTAMP:20260423T182901
CREATED:20250512T020011Z
LAST-MODIFIED:20250512T020128Z
UID:7786-1755450000-1755457200@retromaniatalent.com
SUMMARY:Boogie Machine @ Castle Pines Summer Concert
DESCRIPTION:The Summer Concert Series features free concerts from local bands at Coyote Ridge Park. Bring your lawn chair and get ready to groove! (Note: this concert is from 5-7 p.m.) \nShare this:\n				Share on Facebook (Opens in new window)\n				Facebook\n			\n				Share on X (Opens in new window)\n				X\n			\n				Share on Pinterest (Opens in new window)\n				Pinterest\n			\n				Share on LinkedIn (Opens in new window)\n				LinkedIn\n			\n				Share on Reddit (Opens in new window)\n				Reddit\n			\n				Share on Tumblr (Opens in new window)\n				Tumblr\n			\n				Email a link to a friend (Opens in new window)\n				Email\n			\n				Print (Opens in new window)\n				Print\n			Like this:Like Loading...
URL:https://retromaniatalent.com/event/boogie-machine-castle-rock-summer-concert/
LOCATION:Coyote Ridge Park\, Castle Pines\, Colorado
CATEGORIES:Boogie Machine
END:VEVENT
BEGIN:VEVENT
DTSTART;TZID=America/Denver:20250822T193000
DTEND;TZID=America/Denver:20250822T193000
DTSTAMP:20260423T182901
CREATED:20250731T195328Z
LAST-MODIFIED:20250731T195328Z
UID:8101-1755891000-1755891000@retromaniatalent.com
SUMMARY:Boogie Machine @ Nissi's
DESCRIPTION:Share this:\n				Share on Facebook (Opens in new window)\n				Facebook\n			\n				Share on X (Opens in new window)\n				X\n			\n				Share on Pinterest (Opens in new window)\n				Pinterest\n			\n				Share on LinkedIn (Opens in new window)\n				LinkedIn\n			\n				Share on Reddit (Opens in new window)\n				Reddit\n			\n				Share on Tumblr (Opens in new window)\n				Tumblr\n			\n				Email a link to a friend (Opens in new window)\n				Email\n			\n				Print (Opens in new window)\n				Print\n			Like this:Like Loading...
URL:https://retromaniatalent.com/event/boogie-machine-nissis-13/
LOCATION:Nissi’s\, 2675 Northpark Dr.\, Lafayette\, CO\, United States
CATEGORIES:Boogie Machine
END:VEVENT
BEGIN:VEVENT
DTSTART;TZID=America/Denver:20250823T180000
DTEND;TZID=America/Denver:20250823T213000
DTSTAMP:20260423T182901
CREATED:20250730T211113Z
LAST-MODIFIED:20250730T211113Z
UID:8084-1755972000-1755984600@retromaniatalent.com
SUMMARY:Boogie Machine & Ronnie Raygun @ Rock the Block
DESCRIPTION:One Set of Ronnie Raygun then One Set of Boogie Machine. \nBring a blanket or chair. \nShare this:\n				Share on Facebook (Opens in new window)\n				Facebook\n			\n				Share on X (Opens in new window)\n				X\n			\n				Share on Pinterest (Opens in new window)\n				Pinterest\n			\n				Share on LinkedIn (Opens in new window)\n				LinkedIn\n			\n				Share on Reddit (Opens in new window)\n				Reddit\n			\n				Share on Tumblr (Opens in new window)\n				Tumblr\n			\n				Email a link to a friend (Opens in new window)\n				Email\n			\n				Print (Opens in new window)\n				Print\n			Like this:Like Loading...
URL:https://retromaniatalent.com/event/boogie-machine-ronnie-raygun-rock-the-block/
LOCATION:BCV Homes Association\, 12851 W Vassar Ave\, Lakewood\, Colorado
CATEGORIES:Boogie Machine,Ronnie Raygun
END:VEVENT
END:VCALENDAR