BEGIN:VCALENDAR
VERSION:2.0
PRODID:-//RetroMania Talent - ECPv6.15.20//NONSGML v1.0//EN
CALSCALE:GREGORIAN
METHOD:PUBLISH
X-WR-CALNAME:RetroMania Talent
X-ORIGINAL-URL:https://retromaniatalent.com
X-WR-CALDESC:Events for RetroMania Talent
REFRESH-INTERVAL;VALUE=DURATION:PT1H
X-Robots-Tag:noindex
X-PUBLISHED-TTL:PT1H
BEGIN:VTIMEZONE
TZID:America/Denver
BEGIN:DAYLIGHT
TZOFFSETFROM:-0700
TZOFFSETTO:-0600
TZNAME:MDT
DTSTART:20180311T090000
END:DAYLIGHT
BEGIN:STANDARD
TZOFFSETFROM:-0600
TZOFFSETTO:-0700
TZNAME:MST
DTSTART:20181104T080000
END:STANDARD
BEGIN:DAYLIGHT
TZOFFSETFROM:-0700
TZOFFSETTO:-0600
TZNAME:MDT
DTSTART:20190310T090000
END:DAYLIGHT
BEGIN:STANDARD
TZOFFSETFROM:-0600
TZOFFSETTO:-0700
TZNAME:MST
DTSTART:20191103T080000
END:STANDARD
BEGIN:DAYLIGHT
TZOFFSETFROM:-0700
TZOFFSETTO:-0600
TZNAME:MDT
DTSTART:20200308T090000
END:DAYLIGHT
BEGIN:STANDARD
TZOFFSETFROM:-0600
TZOFFSETTO:-0700
TZNAME:MST
DTSTART:20201101T080000
END:STANDARD
BEGIN:DAYLIGHT
TZOFFSETFROM:-0700
TZOFFSETTO:-0600
TZNAME:MDT
DTSTART:20210314T090000
END:DAYLIGHT
BEGIN:STANDARD
TZOFFSETFROM:-0600
TZOFFSETTO:-0700
TZNAME:MST
DTSTART:20211107T080000
END:STANDARD
END:VTIMEZONE
BEGIN:VEVENT
DTSTART;TZID=America/Denver:20200109T193000
DTEND;TZID=America/Denver:20200109T193000
DTSTAMP:20260423T195057
CREATED:20191228T201107Z
LAST-MODIFIED:20191228T201459Z
UID:1554-1578598200-1578598200@retromaniatalent.com
SUMMARY:Oddy and the Siren @ Winston's DTC
DESCRIPTION:Share this:\n				Share on Facebook (Opens in new window)\n				Facebook\n			\n				Share on X (Opens in new window)\n				X\n			\n				Share on Pinterest (Opens in new window)\n				Pinterest\n			\n				Share on LinkedIn (Opens in new window)\n				LinkedIn\n			\n				Share on Reddit (Opens in new window)\n				Reddit\n			\n				Share on Tumblr (Opens in new window)\n				Tumblr\n			\n				Email a link to a friend (Opens in new window)\n				Email\n			\n				Print (Opens in new window)\n				Print\n			Like this:Like Loading...
URL:https://retromaniatalent.com/event/oddy-siren-winstons-dtc-4/
LOCATION:Winston’s – DTC\, 8101 E. Belleview Ave.\, Denver\, CO\, 80237\, United States
CATEGORIES:Oddy and the Siren
END:VEVENT
BEGIN:VEVENT
DTSTART;TZID=America/Denver:20191205T200000
DTEND;TZID=America/Denver:20191205T200000
DTSTAMP:20260423T195057
CREATED:20191105T210855Z
LAST-MODIFIED:20191105T210855Z
UID:1513-1575576000-1575576000@retromaniatalent.com
SUMMARY:Oddy & the Siren @ Winston's DTC
DESCRIPTION:Share this:\n				Share on Facebook (Opens in new window)\n				Facebook\n			\n				Share on X (Opens in new window)\n				X\n			\n				Share on Pinterest (Opens in new window)\n				Pinterest\n			\n				Share on LinkedIn (Opens in new window)\n				LinkedIn\n			\n				Share on Reddit (Opens in new window)\n				Reddit\n			\n				Share on Tumblr (Opens in new window)\n				Tumblr\n			\n				Email a link to a friend (Opens in new window)\n				Email\n			\n				Print (Opens in new window)\n				Print\n			Like this:Like Loading...
URL:https://retromaniatalent.com/event/oddy-siren-winstons-dtc-3/
LOCATION:Winston’s – DTC\, 8101 E. Belleview Ave.\, Denver\, CO\, 80237\, United States
CATEGORIES:Oddy and the Siren
END:VEVENT
BEGIN:VEVENT
DTSTART;TZID=America/Denver:20191008T200000
DTEND;TZID=America/Denver:20191008T200000
DTSTAMP:20260423T195057
CREATED:20190814T011013Z
LAST-MODIFIED:20190814T011013Z
UID:1490-1570564800-1570564800@retromaniatalent.com
SUMMARY:Oddy & the Siren @ Winston's - Belmar
DESCRIPTION:Share this:\n				Share on Facebook (Opens in new window)\n				Facebook\n			\n				Share on X (Opens in new window)\n				X\n			\n				Share on Pinterest (Opens in new window)\n				Pinterest\n			\n				Share on LinkedIn (Opens in new window)\n				LinkedIn\n			\n				Share on Reddit (Opens in new window)\n				Reddit\n			\n				Share on Tumblr (Opens in new window)\n				Tumblr\n			\n				Email a link to a friend (Opens in new window)\n				Email\n			\n				Print (Opens in new window)\n				Print\n			Like this:Like Loading...
URL:https://retromaniatalent.com/event/oddy-siren-winstons-belmar-6/
LOCATION:Winston’s – Belmar\, 7260 W. Alaska Dr.\, Lakewood\, CO\, United States
CATEGORIES:Oddy and the Siren
END:VEVENT
BEGIN:VEVENT
DTSTART;TZID=America/Denver:20190925T180000
DTEND;TZID=America/Denver:20190925T220000
DTSTAMP:20260423T195057
CREATED:20190814T010523Z
LAST-MODIFIED:20190814T010523Z
UID:1488-1569434400-1569448800@retromaniatalent.com
SUMMARY:Oddy & the Siren @ Prime Bar
DESCRIPTION:Share this:\n				Share on Facebook (Opens in new window)\n				Facebook\n			\n				Share on X (Opens in new window)\n				X\n			\n				Share on Pinterest (Opens in new window)\n				Pinterest\n			\n				Share on LinkedIn (Opens in new window)\n				LinkedIn\n			\n				Share on Reddit (Opens in new window)\n				Reddit\n			\n				Share on Tumblr (Opens in new window)\n				Tumblr\n			\n				Email a link to a friend (Opens in new window)\n				Email\n			\n				Print (Opens in new window)\n				Print\n			Like this:Like Loading...
URL:https://retromaniatalent.com/event/oddy-siren-prime-bar/
LOCATION:Prime Bar\, 15352 E. Ida Drive\,\, Centennial\, CO\, 80015\, United States
CATEGORIES:Oddy and the Siren
END:VEVENT
BEGIN:VEVENT
DTSTART;TZID=America/Denver:20190924T200000
DTEND;TZID=America/Denver:20190924T200000
DTSTAMP:20260423T195057
CREATED:20190814T010019Z
LAST-MODIFIED:20190814T010019Z
UID:1484-1569355200-1569355200@retromaniatalent.com
SUMMARY:Oddy & the Siren @ Winston's - Belmar
DESCRIPTION:Share this:\n				Share on Facebook (Opens in new window)\n				Facebook\n			\n				Share on X (Opens in new window)\n				X\n			\n				Share on Pinterest (Opens in new window)\n				Pinterest\n			\n				Share on LinkedIn (Opens in new window)\n				LinkedIn\n			\n				Share on Reddit (Opens in new window)\n				Reddit\n			\n				Share on Tumblr (Opens in new window)\n				Tumblr\n			\n				Email a link to a friend (Opens in new window)\n				Email\n			\n				Print (Opens in new window)\n				Print\n			Like this:Like Loading...
URL:https://retromaniatalent.com/event/oddy-siren-winstons-belmar-5/
LOCATION:Winston’s – Belmar\, 7260 W. Alaska Dr.\, Lakewood\, CO\, United States
CATEGORIES:Oddy and the Siren
END:VEVENT
BEGIN:VEVENT
DTSTART;TZID=America/Denver:20190829T200000
DTEND;TZID=America/Denver:20190829T200000
DTSTAMP:20260423T195057
CREATED:20190730T045538Z
LAST-MODIFIED:20190730T045538Z
UID:1457-1567108800-1567108800@retromaniatalent.com
SUMMARY:Oddy & the Siren @ Holiday Bar
DESCRIPTION:Share this:\n				Share on Facebook (Opens in new window)\n				Facebook\n			\n				Share on X (Opens in new window)\n				X\n			\n				Share on Pinterest (Opens in new window)\n				Pinterest\n			\n				Share on LinkedIn (Opens in new window)\n				LinkedIn\n			\n				Share on Reddit (Opens in new window)\n				Reddit\n			\n				Share on Tumblr (Opens in new window)\n				Tumblr\n			\n				Email a link to a friend (Opens in new window)\n				Email\n			\n				Print (Opens in new window)\n				Print\n			Like this:Like Loading...
URL:https://retromaniatalent.com/event/oddy-siren-holiday-bar-2/
LOCATION:Holiday Bar\, 403 Bear Creek Ave.\, Morrison\, Colorado
CATEGORIES:Oddy and the Siren
END:VEVENT
BEGIN:VEVENT
DTSTART;TZID=America/Denver:20190825T130000
DTEND;TZID=America/Denver:20190825T160000
DTSTAMP:20260423T195057
CREATED:20190813T221549Z
LAST-MODIFIED:20190813T221824Z
UID:1478-1566738000-1566748800@retromaniatalent.com
SUMMARY:Oddy & the Siren @ Winston's - Belmar
DESCRIPTION:Share this:\n				Share on Facebook (Opens in new window)\n				Facebook\n			\n				Share on X (Opens in new window)\n				X\n			\n				Share on Pinterest (Opens in new window)\n				Pinterest\n			\n				Share on LinkedIn (Opens in new window)\n				LinkedIn\n			\n				Share on Reddit (Opens in new window)\n				Reddit\n			\n				Share on Tumblr (Opens in new window)\n				Tumblr\n			\n				Email a link to a friend (Opens in new window)\n				Email\n			\n				Print (Opens in new window)\n				Print\n			Like this:Like Loading...
URL:https://retromaniatalent.com/event/oddy-siren/
LOCATION:Winston’s – Belmar\, 7260 W. Alaska Dr.\, Lakewood\, CO\, United States
CATEGORIES:Oddy and the Siren
END:VEVENT
BEGIN:VEVENT
DTSTART;TZID=America/Denver:20190821T170000
DTEND;TZID=America/Denver:20190821T200000
DTSTAMP:20260423T195057
CREATED:20190730T045413Z
LAST-MODIFIED:20190730T045413Z
UID:1455-1566406800-1566417600@retromaniatalent.com
SUMMARY:Oddy & the Siren @ Buffalo Rose Patio
DESCRIPTION:Share this:\n				Share on Facebook (Opens in new window)\n				Facebook\n			\n				Share on X (Opens in new window)\n				X\n			\n				Share on Pinterest (Opens in new window)\n				Pinterest\n			\n				Share on LinkedIn (Opens in new window)\n				LinkedIn\n			\n				Share on Reddit (Opens in new window)\n				Reddit\n			\n				Share on Tumblr (Opens in new window)\n				Tumblr\n			\n				Email a link to a friend (Opens in new window)\n				Email\n			\n				Print (Opens in new window)\n				Print\n			Like this:Like Loading...
URL:https://retromaniatalent.com/event/oddy-siren-buffalo-rose-patio/
LOCATION:The Buffalo Rose\, 1119 Washington Ave.\, Golden\, Colorado\, 80401
CATEGORIES:Oddy and the Siren
END:VEVENT
BEGIN:VEVENT
DTSTART;TZID=America/Denver:20190815T200000
DTEND;TZID=America/Denver:20190815T200000
DTSTAMP:20260423T195057
CREATED:20190730T044622Z
LAST-MODIFIED:20190730T044622Z
UID:1450-1565899200-1565899200@retromaniatalent.com
SUMMARY:Oddy & the Siren @ Winston's - DTC
DESCRIPTION:Share this:\n				Share on Facebook (Opens in new window)\n				Facebook\n			\n				Share on X (Opens in new window)\n				X\n			\n				Share on Pinterest (Opens in new window)\n				Pinterest\n			\n				Share on LinkedIn (Opens in new window)\n				LinkedIn\n			\n				Share on Reddit (Opens in new window)\n				Reddit\n			\n				Share on Tumblr (Opens in new window)\n				Tumblr\n			\n				Email a link to a friend (Opens in new window)\n				Email\n			\n				Print (Opens in new window)\n				Print\n			Like this:Like Loading...
URL:https://retromaniatalent.com/event/oddy-siren-winstons-dtc/
LOCATION:Winston’s – DTC\, 8101 E. Belleview Ave.\, Denver\, CO\, 80237\, United States
CATEGORIES:Oddy and the Siren
END:VEVENT
BEGIN:VEVENT
DTSTART;TZID=America/Denver:20190730T200000
DTEND;TZID=America/Denver:20190730T200000
DTSTAMP:20260423T195057
CREATED:20190730T043834Z
LAST-MODIFIED:20190730T043834Z
UID:1444-1564516800-1564516800@retromaniatalent.com
SUMMARY:Oddy & the Siren @ Winston's - Belmar
DESCRIPTION:Share this:\n				Share on Facebook (Opens in new window)\n				Facebook\n			\n				Share on X (Opens in new window)\n				X\n			\n				Share on Pinterest (Opens in new window)\n				Pinterest\n			\n				Share on LinkedIn (Opens in new window)\n				LinkedIn\n			\n				Share on Reddit (Opens in new window)\n				Reddit\n			\n				Share on Tumblr (Opens in new window)\n				Tumblr\n			\n				Email a link to a friend (Opens in new window)\n				Email\n			\n				Print (Opens in new window)\n				Print\n			Like this:Like Loading...
URL:https://retromaniatalent.com/event/oddy-siren-winstons-belmar-2/
LOCATION:Winston’s – Belmar\, 7260 W. Alaska Dr.\, Lakewood\, CO\, United States
CATEGORIES:Oddy and the Siren
END:VEVENT
BEGIN:VEVENT
DTSTART;TZID=America/Denver:20190725T200000
DTEND;TZID=America/Denver:20190725T200000
DTSTAMP:20260423T195057
CREATED:20190302T223131Z
LAST-MODIFIED:20190302T223131Z
UID:1383-1564084800-1564084800@retromaniatalent.com
SUMMARY:Oddy and the Siren @ Winston's - DTC
DESCRIPTION:Share this:\n				Share on Facebook (Opens in new window)\n				Facebook\n			\n				Share on X (Opens in new window)\n				X\n			\n				Share on Pinterest (Opens in new window)\n				Pinterest\n			\n				Share on LinkedIn (Opens in new window)\n				LinkedIn\n			\n				Share on Reddit (Opens in new window)\n				Reddit\n			\n				Share on Tumblr (Opens in new window)\n				Tumblr\n			\n				Email a link to a friend (Opens in new window)\n				Email\n			\n				Print (Opens in new window)\n				Print\n			Like this:Like Loading...
URL:https://retromaniatalent.com/event/oddy-siren-winstons-dtc-2/
LOCATION:Winston’s – DTC\, 8101 E. Belleview Ave.\, Denver\, CO\, 80237\, United States
CATEGORIES:Oddy and the Siren
END:VEVENT
BEGIN:VEVENT
DTSTART;TZID=America/Denver:20190627T200000
DTEND;TZID=America/Denver:20190627T200000
DTSTAMP:20260423T195057
CREATED:20190302T222241Z
LAST-MODIFIED:20190505T044356Z
UID:1378-1561665600-1561665600@retromaniatalent.com
SUMMARY:Oddy and the Siren @ Winston's - DTC
DESCRIPTION:Share this:\n				Share on Facebook (Opens in new window)\n				Facebook\n			\n				Share on X (Opens in new window)\n				X\n			\n				Share on Pinterest (Opens in new window)\n				Pinterest\n			\n				Share on LinkedIn (Opens in new window)\n				LinkedIn\n			\n				Share on Reddit (Opens in new window)\n				Reddit\n			\n				Share on Tumblr (Opens in new window)\n				Tumblr\n			\n				Email a link to a friend (Opens in new window)\n				Email\n			\n				Print (Opens in new window)\n				Print\n			Like this:Like Loading...
URL:https://retromaniatalent.com/event/oddy-siren-winstons-belmar-4/
LOCATION:Winston’s – DTC\, 8101 E. Belleview Ave.\, Denver\, CO\, 80237\, United States
CATEGORIES:Oddy and the Siren
END:VEVENT
BEGIN:VEVENT
DTSTART;TZID=America/Denver:20190618T200000
DTEND;TZID=America/Denver:20190618T200000
DTSTAMP:20260423T195057
CREATED:20190302T222033Z
LAST-MODIFIED:20190505T044311Z
UID:1376-1560888000-1560888000@retromaniatalent.com
SUMMARY:Oddy and the Siren @ Winston's - Belmar
DESCRIPTION:Share this:\n				Share on Facebook (Opens in new window)\n				Facebook\n			\n				Share on X (Opens in new window)\n				X\n			\n				Share on Pinterest (Opens in new window)\n				Pinterest\n			\n				Share on LinkedIn (Opens in new window)\n				LinkedIn\n			\n				Share on Reddit (Opens in new window)\n				Reddit\n			\n				Share on Tumblr (Opens in new window)\n				Tumblr\n			\n				Email a link to a friend (Opens in new window)\n				Email\n			\n				Print (Opens in new window)\n				Print\n			Like this:Like Loading...
URL:https://retromaniatalent.com/event/oddy-siren-winstons-belmar-3/
LOCATION:Winston’s – Belmar\, 7260 W. Alaska Dr.\, Lakewood\, CO\, United States
CATEGORIES:Oddy and the Siren
END:VEVENT
BEGIN:VEVENT
DTSTART;TZID=America/Denver:20190516T200000
DTEND;TZID=America/Denver:20190516T200000
DTSTAMP:20260423T195057
CREATED:20190323T185253Z
LAST-MODIFIED:20190323T185253Z
UID:1402-1558036800-1558036800@retromaniatalent.com
SUMMARY:Oddy and the Siren @ Holiday Bar
DESCRIPTION:Share this:\n				Share on Facebook (Opens in new window)\n				Facebook\n			\n				Share on X (Opens in new window)\n				X\n			\n				Share on Pinterest (Opens in new window)\n				Pinterest\n			\n				Share on LinkedIn (Opens in new window)\n				LinkedIn\n			\n				Share on Reddit (Opens in new window)\n				Reddit\n			\n				Share on Tumblr (Opens in new window)\n				Tumblr\n			\n				Email a link to a friend (Opens in new window)\n				Email\n			\n				Print (Opens in new window)\n				Print\n			Like this:Like Loading...
URL:https://retromaniatalent.com/event/oddy-siren-holiday-bar/
LOCATION:Holiday Bar\, 403 Bear Creek Ave.\, Morrison\, Colorado
CATEGORIES:Oddy and the Siren
END:VEVENT
BEGIN:VEVENT
DTSTART;TZID=America/Denver:20190507T200000
DTEND;TZID=America/Denver:20190507T200000
DTSTAMP:20260423T195057
CREATED:20190302T220329Z
LAST-MODIFIED:20190505T044208Z
UID:1363-1557259200-1557259200@retromaniatalent.com
SUMMARY:Oddy and the Siren @ Winston's - Belmar
DESCRIPTION:Share this:\n				Share on Facebook (Opens in new window)\n				Facebook\n			\n				Share on X (Opens in new window)\n				X\n			\n				Share on Pinterest (Opens in new window)\n				Pinterest\n			\n				Share on LinkedIn (Opens in new window)\n				LinkedIn\n			\n				Share on Reddit (Opens in new window)\n				Reddit\n			\n				Share on Tumblr (Opens in new window)\n				Tumblr\n			\n				Email a link to a friend (Opens in new window)\n				Email\n			\n				Print (Opens in new window)\n				Print\n			Like this:Like Loading...
URL:https://retromaniatalent.com/event/oddy-siren-winstons-belmar/
LOCATION:Winston’s – Belmar\, 7260 W. Alaska Dr.\, Lakewood\, CO\, United States
CATEGORIES:Oddy and the Siren
END:VEVENT
BEGIN:VEVENT
DTSTART;TZID=America/Denver:20190405T160000
DTEND;TZID=America/Denver:20190405T200000
DTSTAMP:20260423T195057
CREATED:20190428T063145Z
LAST-MODIFIED:20190428T063145Z
UID:1422-1554480000-1554494400@retromaniatalent.com
SUMMARY:Oddy & the Siren @ Tailgate Tavern
DESCRIPTION:Share this:\n				Share on Facebook (Opens in new window)\n				Facebook\n			\n				Share on X (Opens in new window)\n				X\n			\n				Share on Pinterest (Opens in new window)\n				Pinterest\n			\n				Share on LinkedIn (Opens in new window)\n				LinkedIn\n			\n				Share on Reddit (Opens in new window)\n				Reddit\n			\n				Share on Tumblr (Opens in new window)\n				Tumblr\n			\n				Email a link to a friend (Opens in new window)\n				Email\n			\n				Print (Opens in new window)\n				Print\n			Like this:Like Loading...
URL:https://retromaniatalent.com/event/oddy-siren-tailgate-tavern/
LOCATION:Tailgate Tavern\, 19552 E. Main St.\, Parker\, CO\, United States
CATEGORIES:Oddy and the Siren
END:VEVENT
END:VCALENDAR