BEGIN:VCALENDAR
VERSION:2.0
PRODID:-//RetroMania Talent - ECPv6.15.20//NONSGML v1.0//EN
CALSCALE:GREGORIAN
METHOD:PUBLISH
X-WR-CALNAME:RetroMania Talent
X-ORIGINAL-URL:https://retromaniatalent.com
X-WR-CALDESC:Events for RetroMania Talent
REFRESH-INTERVAL;VALUE=DURATION:PT1H
X-Robots-Tag:noindex
X-PUBLISHED-TTL:PT1H
BEGIN:VTIMEZONE
TZID:America/Denver
BEGIN:DAYLIGHT
TZOFFSETFROM:-0700
TZOFFSETTO:-0600
TZNAME:MDT
DTSTART:20150308T090000
END:DAYLIGHT
BEGIN:STANDARD
TZOFFSETFROM:-0600
TZOFFSETTO:-0700
TZNAME:MST
DTSTART:20151101T080000
END:STANDARD
BEGIN:DAYLIGHT
TZOFFSETFROM:-0700
TZOFFSETTO:-0600
TZNAME:MDT
DTSTART:20160313T090000
END:DAYLIGHT
BEGIN:STANDARD
TZOFFSETFROM:-0600
TZOFFSETTO:-0700
TZNAME:MST
DTSTART:20161106T080000
END:STANDARD
BEGIN:DAYLIGHT
TZOFFSETFROM:-0700
TZOFFSETTO:-0600
TZNAME:MDT
DTSTART:20170312T090000
END:DAYLIGHT
BEGIN:STANDARD
TZOFFSETFROM:-0600
TZOFFSETTO:-0700
TZNAME:MST
DTSTART:20171105T080000
END:STANDARD
BEGIN:DAYLIGHT
TZOFFSETFROM:-0700
TZOFFSETTO:-0600
TZNAME:MDT
DTSTART:20180311T090000
END:DAYLIGHT
BEGIN:STANDARD
TZOFFSETFROM:-0600
TZOFFSETTO:-0700
TZNAME:MST
DTSTART:20181104T080000
END:STANDARD
BEGIN:DAYLIGHT
TZOFFSETFROM:-0700
TZOFFSETTO:-0600
TZNAME:MDT
DTSTART:20190310T090000
END:DAYLIGHT
BEGIN:STANDARD
TZOFFSETFROM:-0600
TZOFFSETTO:-0700
TZNAME:MST
DTSTART:20191103T080000
END:STANDARD
END:VTIMEZONE
BEGIN:VEVENT
DTSTART;VALUE=DATE:20180509
DTEND;VALUE=DATE:20180510
DTSTAMP:20260423T202010
CREATED:20180116T234231Z
LAST-MODIFIED:20180116T234231Z
UID:1039-1525834800-1525910399@retromaniatalent.com
SUMMARY:Unavailable
DESCRIPTION:Share this:\n				Share on Facebook (Opens in new window)\n				Facebook\n			\n				Share on X (Opens in new window)\n				X\n			\n				Share on Pinterest (Opens in new window)\n				Pinterest\n			\n				Share on LinkedIn (Opens in new window)\n				LinkedIn\n			\n				Share on Reddit (Opens in new window)\n				Reddit\n			\n				Share on Tumblr (Opens in new window)\n				Tumblr\n			\n				Email a link to a friend (Opens in new window)\n				Email\n			\n				Print (Opens in new window)\n				Print\n			Like this:Like Loading...
URL:https://retromaniatalent.com/event/unavailable-23/
LOCATION:California
CATEGORIES:Boogie Machine,Jerry Lance Bergeson,Ronnie Raygun
END:VEVENT
BEGIN:VEVENT
DTSTART;VALUE=DATE:20180508
DTEND;VALUE=DATE:20180509
DTSTAMP:20260423T202010
CREATED:20180116T234159Z
LAST-MODIFIED:20180116T234159Z
UID:1037-1525748400-1525823999@retromaniatalent.com
SUMMARY:Unavailable
DESCRIPTION:Share this:\n				Share on Facebook (Opens in new window)\n				Facebook\n			\n				Share on X (Opens in new window)\n				X\n			\n				Share on Pinterest (Opens in new window)\n				Pinterest\n			\n				Share on LinkedIn (Opens in new window)\n				LinkedIn\n			\n				Share on Reddit (Opens in new window)\n				Reddit\n			\n				Share on Tumblr (Opens in new window)\n				Tumblr\n			\n				Email a link to a friend (Opens in new window)\n				Email\n			\n				Print (Opens in new window)\n				Print\n			Like this:Like Loading...
URL:https://retromaniatalent.com/event/unavailable-22/
LOCATION:California
CATEGORIES:Boogie Machine,Jerry Lance Bergeson,Ronnie Raygun
END:VEVENT
BEGIN:VEVENT
DTSTART;VALUE=DATE:20180507
DTEND;VALUE=DATE:20180508
DTSTAMP:20260423T202010
CREATED:20180116T234126Z
LAST-MODIFIED:20180116T234126Z
UID:1035-1525662000-1525737599@retromaniatalent.com
SUMMARY:Unavailable
DESCRIPTION:Share this:\n				Share on Facebook (Opens in new window)\n				Facebook\n			\n				Share on X (Opens in new window)\n				X\n			\n				Share on Pinterest (Opens in new window)\n				Pinterest\n			\n				Share on LinkedIn (Opens in new window)\n				LinkedIn\n			\n				Share on Reddit (Opens in new window)\n				Reddit\n			\n				Share on Tumblr (Opens in new window)\n				Tumblr\n			\n				Email a link to a friend (Opens in new window)\n				Email\n			\n				Print (Opens in new window)\n				Print\n			Like this:Like Loading...
URL:https://retromaniatalent.com/event/unavailable-21/
LOCATION:California
CATEGORIES:Boogie Machine,Jerry Lance Bergeson,Ronnie Raygun
END:VEVENT
BEGIN:VEVENT
DTSTART;VALUE=DATE:20180506
DTEND;VALUE=DATE:20180507
DTSTAMP:20260423T202010
CREATED:20180116T234053Z
LAST-MODIFIED:20180116T234053Z
UID:1033-1525575600-1525651199@retromaniatalent.com
SUMMARY:Unavailable
DESCRIPTION:Share this:\n				Share on Facebook (Opens in new window)\n				Facebook\n			\n				Share on X (Opens in new window)\n				X\n			\n				Share on Pinterest (Opens in new window)\n				Pinterest\n			\n				Share on LinkedIn (Opens in new window)\n				LinkedIn\n			\n				Share on Reddit (Opens in new window)\n				Reddit\n			\n				Share on Tumblr (Opens in new window)\n				Tumblr\n			\n				Email a link to a friend (Opens in new window)\n				Email\n			\n				Print (Opens in new window)\n				Print\n			Like this:Like Loading...
URL:https://retromaniatalent.com/event/unavailable-20/
LOCATION:California
CATEGORIES:Boogie Machine,Jerry Lance Bergeson,Ronnie Raygun
END:VEVENT
BEGIN:VEVENT
DTSTART;VALUE=DATE:20180505
DTEND;VALUE=DATE:20180506
DTSTAMP:20260423T202010
CREATED:20180116T234021Z
LAST-MODIFIED:20180116T234021Z
UID:1031-1525489200-1525564799@retromaniatalent.com
SUMMARY:Unavailable
DESCRIPTION:Share this:\n				Share on Facebook (Opens in new window)\n				Facebook\n			\n				Share on X (Opens in new window)\n				X\n			\n				Share on Pinterest (Opens in new window)\n				Pinterest\n			\n				Share on LinkedIn (Opens in new window)\n				LinkedIn\n			\n				Share on Reddit (Opens in new window)\n				Reddit\n			\n				Share on Tumblr (Opens in new window)\n				Tumblr\n			\n				Email a link to a friend (Opens in new window)\n				Email\n			\n				Print (Opens in new window)\n				Print\n			Like this:Like Loading...
URL:https://retromaniatalent.com/event/unavailable-19/
LOCATION:California
CATEGORIES:Boogie Machine,Jerry Lance Bergeson,Ronnie Raygun
END:VEVENT
BEGIN:VEVENT
DTSTART;VALUE=DATE:20180504
DTEND;VALUE=DATE:20180505
DTSTAMP:20260423T202010
CREATED:20180116T233859Z
LAST-MODIFIED:20180116T233859Z
UID:1029-1525402800-1525478399@retromaniatalent.com
SUMMARY:Unavailable
DESCRIPTION:Share this:\n				Share on Facebook (Opens in new window)\n				Facebook\n			\n				Share on X (Opens in new window)\n				X\n			\n				Share on Pinterest (Opens in new window)\n				Pinterest\n			\n				Share on LinkedIn (Opens in new window)\n				LinkedIn\n			\n				Share on Reddit (Opens in new window)\n				Reddit\n			\n				Share on Tumblr (Opens in new window)\n				Tumblr\n			\n				Email a link to a friend (Opens in new window)\n				Email\n			\n				Print (Opens in new window)\n				Print\n			Like this:Like Loading...
URL:https://retromaniatalent.com/event/unavailable-18/
LOCATION:California
CATEGORIES:Boogie Machine,Jerry Lance Bergeson,Ronnie Raygun
END:VEVENT
BEGIN:VEVENT
DTSTART;VALUE=DATE:20180503
DTEND;VALUE=DATE:20180504
DTSTAMP:20260423T202010
CREATED:20180116T233822Z
LAST-MODIFIED:20180116T233822Z
UID:1027-1525316400-1525391999@retromaniatalent.com
SUMMARY:Unavailable
DESCRIPTION:Share this:\n				Share on Facebook (Opens in new window)\n				Facebook\n			\n				Share on X (Opens in new window)\n				X\n			\n				Share on Pinterest (Opens in new window)\n				Pinterest\n			\n				Share on LinkedIn (Opens in new window)\n				LinkedIn\n			\n				Share on Reddit (Opens in new window)\n				Reddit\n			\n				Share on Tumblr (Opens in new window)\n				Tumblr\n			\n				Email a link to a friend (Opens in new window)\n				Email\n			\n				Print (Opens in new window)\n				Print\n			Like this:Like Loading...
URL:https://retromaniatalent.com/event/unavailable-17/
LOCATION:California
CATEGORIES:Boogie Machine,Jerry Lance Bergeson,Ronnie Raygun
END:VEVENT
BEGIN:VEVENT
DTSTART;VALUE=DATE:20180502
DTEND;VALUE=DATE:20180503
DTSTAMP:20260423T202010
CREATED:20180116T233742Z
LAST-MODIFIED:20180116T233742Z
UID:1025-1525230000-1525305599@retromaniatalent.com
SUMMARY:Unavailable
DESCRIPTION:Share this:\n				Share on Facebook (Opens in new window)\n				Facebook\n			\n				Share on X (Opens in new window)\n				X\n			\n				Share on Pinterest (Opens in new window)\n				Pinterest\n			\n				Share on LinkedIn (Opens in new window)\n				LinkedIn\n			\n				Share on Reddit (Opens in new window)\n				Reddit\n			\n				Share on Tumblr (Opens in new window)\n				Tumblr\n			\n				Email a link to a friend (Opens in new window)\n				Email\n			\n				Print (Opens in new window)\n				Print\n			Like this:Like Loading...
URL:https://retromaniatalent.com/event/unavailable-16/
LOCATION:California
CATEGORIES:Boogie Machine,Jerry Lance Bergeson,Ronnie Raygun
END:VEVENT
BEGIN:VEVENT
DTSTART;VALUE=DATE:20180501
DTEND;VALUE=DATE:20180502
DTSTAMP:20260423T202010
CREATED:20180116T233701Z
LAST-MODIFIED:20180116T233701Z
UID:1023-1525143600-1525219199@retromaniatalent.com
SUMMARY:Unavailable
DESCRIPTION:Share this:\n				Share on Facebook (Opens in new window)\n				Facebook\n			\n				Share on X (Opens in new window)\n				X\n			\n				Share on Pinterest (Opens in new window)\n				Pinterest\n			\n				Share on LinkedIn (Opens in new window)\n				LinkedIn\n			\n				Share on Reddit (Opens in new window)\n				Reddit\n			\n				Share on Tumblr (Opens in new window)\n				Tumblr\n			\n				Email a link to a friend (Opens in new window)\n				Email\n			\n				Print (Opens in new window)\n				Print\n			Like this:Like Loading...
URL:https://retromaniatalent.com/event/unavailable-15/
LOCATION:California
CATEGORIES:Boogie Machine,Jerry Lance Bergeson,Ronnie Raygun
END:VEVENT
BEGIN:VEVENT
DTSTART;VALUE=DATE:20180430
DTEND;VALUE=DATE:20180501
DTSTAMP:20260423T202010
CREATED:20180116T233526Z
LAST-MODIFIED:20180116T233526Z
UID:1021-1525057200-1525132799@retromaniatalent.com
SUMMARY:Unavailable
DESCRIPTION:Share this:\n				Share on Facebook (Opens in new window)\n				Facebook\n			\n				Share on X (Opens in new window)\n				X\n			\n				Share on Pinterest (Opens in new window)\n				Pinterest\n			\n				Share on LinkedIn (Opens in new window)\n				LinkedIn\n			\n				Share on Reddit (Opens in new window)\n				Reddit\n			\n				Share on Tumblr (Opens in new window)\n				Tumblr\n			\n				Email a link to a friend (Opens in new window)\n				Email\n			\n				Print (Opens in new window)\n				Print\n			Like this:Like Loading...
URL:https://retromaniatalent.com/event/unavailable-14/
LOCATION:California
CATEGORIES:Boogie Machine,Jerry Lance Bergeson,Ronnie Raygun
END:VEVENT
BEGIN:VEVENT
DTSTART;VALUE=DATE:20180429
DTEND;VALUE=DATE:20180430
DTSTAMP:20260423T202010
CREATED:20180116T233445Z
LAST-MODIFIED:20180116T233445Z
UID:1019-1524970800-1525046399@retromaniatalent.com
SUMMARY:Unavailable
DESCRIPTION:Share this:\n				Share on Facebook (Opens in new window)\n				Facebook\n			\n				Share on X (Opens in new window)\n				X\n			\n				Share on Pinterest (Opens in new window)\n				Pinterest\n			\n				Share on LinkedIn (Opens in new window)\n				LinkedIn\n			\n				Share on Reddit (Opens in new window)\n				Reddit\n			\n				Share on Tumblr (Opens in new window)\n				Tumblr\n			\n				Email a link to a friend (Opens in new window)\n				Email\n			\n				Print (Opens in new window)\n				Print\n			Like this:Like Loading...
URL:https://retromaniatalent.com/event/unavailable-13/
LOCATION:California
CATEGORIES:Boogie Machine,Jerry Lance Bergeson,Ronnie Raygun
END:VEVENT
BEGIN:VEVENT
DTSTART;VALUE=DATE:20180428
DTEND;VALUE=DATE:20180429
DTSTAMP:20260423T202010
CREATED:20180116T233405Z
LAST-MODIFIED:20180116T233405Z
UID:1017-1524884400-1524959999@retromaniatalent.com
SUMMARY:Unavailable
DESCRIPTION:Share this:\n				Share on Facebook (Opens in new window)\n				Facebook\n			\n				Share on X (Opens in new window)\n				X\n			\n				Share on Pinterest (Opens in new window)\n				Pinterest\n			\n				Share on LinkedIn (Opens in new window)\n				LinkedIn\n			\n				Share on Reddit (Opens in new window)\n				Reddit\n			\n				Share on Tumblr (Opens in new window)\n				Tumblr\n			\n				Email a link to a friend (Opens in new window)\n				Email\n			\n				Print (Opens in new window)\n				Print\n			Like this:Like Loading...
URL:https://retromaniatalent.com/event/unavailable-12/
LOCATION:California
CATEGORIES:Boogie Machine,Jerry Lance Bergeson,Ronnie Raygun
END:VEVENT
BEGIN:VEVENT
DTSTART;VALUE=DATE:20180427
DTEND;VALUE=DATE:20180428
DTSTAMP:20260423T202010
CREATED:20180116T233327Z
LAST-MODIFIED:20180116T233327Z
UID:1015-1524798000-1524873599@retromaniatalent.com
SUMMARY:Unavailable
DESCRIPTION:Share this:\n				Share on Facebook (Opens in new window)\n				Facebook\n			\n				Share on X (Opens in new window)\n				X\n			\n				Share on Pinterest (Opens in new window)\n				Pinterest\n			\n				Share on LinkedIn (Opens in new window)\n				LinkedIn\n			\n				Share on Reddit (Opens in new window)\n				Reddit\n			\n				Share on Tumblr (Opens in new window)\n				Tumblr\n			\n				Email a link to a friend (Opens in new window)\n				Email\n			\n				Print (Opens in new window)\n				Print\n			Like this:Like Loading...
URL:https://retromaniatalent.com/event/unavailable-11/
LOCATION:California
CATEGORIES:Boogie Machine,Jerry Lance Bergeson,Ronnie Raygun
END:VEVENT
BEGIN:VEVENT
DTSTART;VALUE=DATE:20180316
DTEND;VALUE=DATE:20180317
DTSTAMP:20260423T202010
CREATED:20180317T232549Z
LAST-MODIFIED:20180317T232549Z
UID:1053-1521169200-1521244799@retromaniatalent.com
SUMMARY:Ronnie Raygun @ Private Funktion - Colorado Springs
DESCRIPTION:Share this:\n				Share on Facebook (Opens in new window)\n				Facebook\n			\n				Share on X (Opens in new window)\n				X\n			\n				Share on Pinterest (Opens in new window)\n				Pinterest\n			\n				Share on LinkedIn (Opens in new window)\n				LinkedIn\n			\n				Share on Reddit (Opens in new window)\n				Reddit\n			\n				Share on Tumblr (Opens in new window)\n				Tumblr\n			\n				Email a link to a friend (Opens in new window)\n				Email\n			\n				Print (Opens in new window)\n				Print\n			Like this:Like Loading...
URL:https://retromaniatalent.com/event/ronnie-raygun-private-funktion-colorado-springs/
LOCATION:California
CATEGORIES:Ronnie Raygun
END:VEVENT
BEGIN:VEVENT
DTSTART;VALUE=DATE:20171215
DTEND;VALUE=DATE:20171216
DTSTAMP:20260423T202010
CREATED:20171025T184808Z
LAST-MODIFIED:20171025T184808Z
UID:984-1513306800-1513382399@retromaniatalent.com
SUMMARY:Ronnie Raygun @ Private Funktion - Denver
DESCRIPTION:Share this:\n				Share on Facebook (Opens in new window)\n				Facebook\n			\n				Share on X (Opens in new window)\n				X\n			\n				Share on Pinterest (Opens in new window)\n				Pinterest\n			\n				Share on LinkedIn (Opens in new window)\n				LinkedIn\n			\n				Share on Reddit (Opens in new window)\n				Reddit\n			\n				Share on Tumblr (Opens in new window)\n				Tumblr\n			\n				Email a link to a friend (Opens in new window)\n				Email\n			\n				Print (Opens in new window)\n				Print\n			Like this:Like Loading...
URL:https://retromaniatalent.com/event/ronnie-raygun-private-funktion-denver-6/
LOCATION:California
CATEGORIES:Ronnie Raygun
END:VEVENT
BEGIN:VEVENT
DTSTART;TZID=America/Denver:20171111T190000
DTEND;TZID=America/Denver:20171111T190000
DTSTAMP:20260423T202010
CREATED:20170421T024845Z
LAST-MODIFIED:20170421T024845Z
UID:936-1510426800-1510426800@retromaniatalent.com
SUMMARY:Ronnie Raygun @ The Armory - Fundraiser
DESCRIPTION:Share this:\n				Share on Facebook (Opens in new window)\n				Facebook\n			\n				Share on X (Opens in new window)\n				X\n			\n				Share on Pinterest (Opens in new window)\n				Pinterest\n			\n				Share on LinkedIn (Opens in new window)\n				LinkedIn\n			\n				Share on Reddit (Opens in new window)\n				Reddit\n			\n				Share on Tumblr (Opens in new window)\n				Tumblr\n			\n				Email a link to a friend (Opens in new window)\n				Email\n			\n				Print (Opens in new window)\n				Print\n			Like this:Like Loading...
URL:https://retromaniatalent.com/event/ronnie-raygun-armory-fundraiser/
LOCATION:The Armory\, 300 Strong St.\, Brighton\, CO\, 80601\, United States
CATEGORIES:Ronnie Raygun
END:VEVENT
BEGIN:VEVENT
DTSTART;TZID=America/Denver:20170922T080000
DTEND;TZID=America/Denver:20170922T170000
DTSTAMP:20260423T202010
CREATED:20170713T015753Z
LAST-MODIFIED:20170713T015804Z
UID:966-1506067200-1506099600@retromaniatalent.com
SUMMARY:Boogie Machine / Ronnie Raygun @ Private Funktion - Hyland Hills
DESCRIPTION:Share this:\n				Share on Facebook (Opens in new window)\n				Facebook\n			\n				Share on X (Opens in new window)\n				X\n			\n				Share on Pinterest (Opens in new window)\n				Pinterest\n			\n				Share on LinkedIn (Opens in new window)\n				LinkedIn\n			\n				Share on Reddit (Opens in new window)\n				Reddit\n			\n				Share on Tumblr (Opens in new window)\n				Tumblr\n			\n				Email a link to a friend (Opens in new window)\n				Email\n			\n				Print (Opens in new window)\n				Print\n			Like this:Like Loading...
URL:https://retromaniatalent.com/event/boogie-machine-ronnie-raygun-private-funktion-hyland-hills/
LOCATION:California
CATEGORIES:Boogie Machine,Ronnie Raygun
END:VEVENT
BEGIN:VEVENT
DTSTART;VALUE=DATE:20170909
DTEND;VALUE=DATE:20170910
DTSTAMP:20260423T202010
CREATED:20170421T025146Z
LAST-MODIFIED:20170421T025146Z
UID:940-1504926000-1505001599@retromaniatalent.com
SUMMARY:Unavailable
DESCRIPTION:Share this:\n				Share on Facebook (Opens in new window)\n				Facebook\n			\n				Share on X (Opens in new window)\n				X\n			\n				Share on Pinterest (Opens in new window)\n				Pinterest\n			\n				Share on LinkedIn (Opens in new window)\n				LinkedIn\n			\n				Share on Reddit (Opens in new window)\n				Reddit\n			\n				Share on Tumblr (Opens in new window)\n				Tumblr\n			\n				Email a link to a friend (Opens in new window)\n				Email\n			\n				Print (Opens in new window)\n				Print\n			Like this:Like Loading...
URL:https://retromaniatalent.com/event/unavailable-10/
LOCATION:California
CATEGORIES:Boogie Machine,Jerry Lance Bergeson,Ronnie Raygun
END:VEVENT
BEGIN:VEVENT
DTSTART;VALUE=DATE:20170908
DTEND;VALUE=DATE:20170909
DTSTAMP:20260423T202010
CREATED:20170421T025114Z
LAST-MODIFIED:20170421T025114Z
UID:938-1504839600-1504915199@retromaniatalent.com
SUMMARY:Unavailable
DESCRIPTION:Share this:\n				Share on Facebook (Opens in new window)\n				Facebook\n			\n				Share on X (Opens in new window)\n				X\n			\n				Share on Pinterest (Opens in new window)\n				Pinterest\n			\n				Share on LinkedIn (Opens in new window)\n				LinkedIn\n			\n				Share on Reddit (Opens in new window)\n				Reddit\n			\n				Share on Tumblr (Opens in new window)\n				Tumblr\n			\n				Email a link to a friend (Opens in new window)\n				Email\n			\n				Print (Opens in new window)\n				Print\n			Like this:Like Loading...
URL:https://retromaniatalent.com/event/unavailable-9/
LOCATION:California
CATEGORIES:Boogie Machine,Jerry Lance Bergeson,Ronnie Raygun
END:VEVENT
BEGIN:VEVENT
DTSTART;TZID=America/Denver:20170728T060000
DTEND;TZID=America/Denver:20170728T210000
DTSTAMP:20260423T202010
CREATED:20170129T014706Z
LAST-MODIFIED:20170129T014706Z
UID:875-1501221600-1501275600@retromaniatalent.com
SUMMARY:Ronnie Raygun @ TGIFairplay  / Burro Days
DESCRIPTION:Share this:\n				Share on Facebook (Opens in new window)\n				Facebook\n			\n				Share on X (Opens in new window)\n				X\n			\n				Share on Pinterest (Opens in new window)\n				Pinterest\n			\n				Share on LinkedIn (Opens in new window)\n				LinkedIn\n			\n				Share on Reddit (Opens in new window)\n				Reddit\n			\n				Share on Tumblr (Opens in new window)\n				Tumblr\n			\n				Email a link to a friend (Opens in new window)\n				Email\n			\n				Print (Opens in new window)\n				Print\n			Like this:Like Loading...
URL:https://retromaniatalent.com/event/ronnie-raygun-tgifairplay-burro-days/
LOCATION:5th & Main\, Fairplay\, CO\, United States
CATEGORIES:Ronnie Raygun
END:VEVENT
BEGIN:VEVENT
DTSTART;VALUE=DATE:20170722
DTEND;VALUE=DATE:20170724
DTSTAMP:20260423T202010
CREATED:20170129T014234Z
LAST-MODIFIED:20170129T014234Z
UID:874-1500692400-1500778799@retromaniatalent.com
SUMMARY:Boogie Machine/Ronnie Raygun @ Private Funktion - Idaho Falls\, Idaho
DESCRIPTION:Share this:\n				Share on Facebook (Opens in new window)\n				Facebook\n			\n				Share on X (Opens in new window)\n				X\n			\n				Share on Pinterest (Opens in new window)\n				Pinterest\n			\n				Share on LinkedIn (Opens in new window)\n				LinkedIn\n			\n				Share on Reddit (Opens in new window)\n				Reddit\n			\n				Share on Tumblr (Opens in new window)\n				Tumblr\n			\n				Email a link to a friend (Opens in new window)\n				Email\n			\n				Print (Opens in new window)\n				Print\n			Like this:Like Loading...
URL:https://retromaniatalent.com/event/boogie-machineronnie-raygun-private-funktion-idaho-falls-idaho/
LOCATION:California
CATEGORIES:Boogie Machine,Ronnie Raygun
END:VEVENT
BEGIN:VEVENT
DTSTART;VALUE=DATE:20170701
DTEND;VALUE=DATE:20170703
DTSTAMP:20260423T202010
CREATED:20170331T183158Z
LAST-MODIFIED:20170331T183158Z
UID:913-1498878000-1498964399@retromaniatalent.com
SUMMARY:Ronnie Raygun @ Private Funktion - Golden
DESCRIPTION:Playing an awesome wedding! \nShare this:\n				Share on Facebook (Opens in new window)\n				Facebook\n			\n				Share on X (Opens in new window)\n				X\n			\n				Share on Pinterest (Opens in new window)\n				Pinterest\n			\n				Share on LinkedIn (Opens in new window)\n				LinkedIn\n			\n				Share on Reddit (Opens in new window)\n				Reddit\n			\n				Share on Tumblr (Opens in new window)\n				Tumblr\n			\n				Email a link to a friend (Opens in new window)\n				Email\n			\n				Print (Opens in new window)\n				Print\n			Like this:Like Loading...
URL:https://retromaniatalent.com/event/ronnie-raygun-private-funktion-golden-2/
LOCATION:California
CATEGORIES:Ronnie Raygun
END:VEVENT
BEGIN:VEVENT
DTSTART;TZID=America/Denver:20170618T110000
DTEND;TZID=America/Denver:20170618T123000
DTSTAMP:20260423T202010
CREATED:20170421T024356Z
LAST-MODIFIED:20170421T024356Z
UID:932-1497783600-1497789000@retromaniatalent.com
SUMMARY:Ronnie Raygun @ PrideFest
DESCRIPTION:Share this:\n				Share on Facebook (Opens in new window)\n				Facebook\n			\n				Share on X (Opens in new window)\n				X\n			\n				Share on Pinterest (Opens in new window)\n				Pinterest\n			\n				Share on LinkedIn (Opens in new window)\n				LinkedIn\n			\n				Share on Reddit (Opens in new window)\n				Reddit\n			\n				Share on Tumblr (Opens in new window)\n				Tumblr\n			\n				Email a link to a friend (Opens in new window)\n				Email\n			\n				Print (Opens in new window)\n				Print\n			Like this:Like Loading...
URL:https://retromaniatalent.com/event/ronnie-raygun-pridefest/
LOCATION:Civic Center Park\, Denver\, CO\, United States
CATEGORIES:Ronnie Raygun
END:VEVENT
BEGIN:VEVENT
DTSTART;TZID=America/Denver:20170602T200000
DTEND;TZID=America/Denver:20170602T200000
DTSTAMP:20260423T202010
CREATED:20170331T180147Z
LAST-MODIFIED:20170331T180147Z
UID:904-1496433600-1496433600@retromaniatalent.com
SUMMARY:Ronnie Raygun @ B Street Bash
DESCRIPTION:Share this:\n				Share on Facebook (Opens in new window)\n				Facebook\n			\n				Share on X (Opens in new window)\n				X\n			\n				Share on Pinterest (Opens in new window)\n				Pinterest\n			\n				Share on LinkedIn (Opens in new window)\n				LinkedIn\n			\n				Share on Reddit (Opens in new window)\n				Reddit\n			\n				Share on Tumblr (Opens in new window)\n				Tumblr\n			\n				Email a link to a friend (Opens in new window)\n				Email\n			\n				Print (Opens in new window)\n				Print\n			Like this:Like Loading...
URL:https://retromaniatalent.com/event/ronnie-raygun-street-bash/
LOCATION:B Street Bash\, 100 W. B Street\, Pueblo\, CO\, United States
CATEGORIES:Ronnie Raygun
END:VEVENT
BEGIN:VEVENT
DTSTART;TZID=America/Denver:20170310T200000
DTEND;TZID=America/Denver:20170310T200000
DTSTAMP:20260423T202010
CREATED:20170224T011326Z
LAST-MODIFIED:20170305T213811Z
UID:882-1489176000-1489176000@retromaniatalent.com
SUMMARY:RetroMania @ Mardi Gras Casino
DESCRIPTION:Share this:\n				Share on Facebook (Opens in new window)\n				Facebook\n			\n				Share on X (Opens in new window)\n				X\n			\n				Share on Pinterest (Opens in new window)\n				Pinterest\n			\n				Share on LinkedIn (Opens in new window)\n				LinkedIn\n			\n				Share on Reddit (Opens in new window)\n				Reddit\n			\n				Share on Tumblr (Opens in new window)\n				Tumblr\n			\n				Email a link to a friend (Opens in new window)\n				Email\n			\n				Print (Opens in new window)\n				Print\n			Like this:Like Loading...
URL:https://retromaniatalent.com/event/bm-rr-mardi-gras-casino-3/
LOCATION:Mardi Gras Casino\, 300 Main Street\, Black Hawk\, CO\, United States
CATEGORIES:Boogie Machine,Ronnie Raygun
END:VEVENT
BEGIN:VEVENT
DTSTART;VALUE=DATE:20170309
DTEND;VALUE=DATE:20170311
DTSTAMP:20260423T202010
CREATED:20170129T012930Z
LAST-MODIFIED:20170129T012930Z
UID:867-1489028400-1489114799@retromaniatalent.com
SUMMARY:Ronnie Raygun @ Private Funktion - Denver
DESCRIPTION:Share this:\n				Share on Facebook (Opens in new window)\n				Facebook\n			\n				Share on X (Opens in new window)\n				X\n			\n				Share on Pinterest (Opens in new window)\n				Pinterest\n			\n				Share on LinkedIn (Opens in new window)\n				LinkedIn\n			\n				Share on Reddit (Opens in new window)\n				Reddit\n			\n				Share on Tumblr (Opens in new window)\n				Tumblr\n			\n				Email a link to a friend (Opens in new window)\n				Email\n			\n				Print (Opens in new window)\n				Print\n			Like this:Like Loading...
URL:https://retromaniatalent.com/event/ronnie-raygun-private-funktion-denver-5/
LOCATION:California
CATEGORIES:Ronnie Raygun
END:VEVENT
BEGIN:VEVENT
DTSTART;TZID=America/Denver:20170304T200000
DTEND;TZID=America/Denver:20170304T200000
DTSTAMP:20260423T202010
CREATED:20170224T011245Z
LAST-MODIFIED:20170305T213752Z
UID:881-1488657600-1488657600@retromaniatalent.com
SUMMARY:RetroMania @ Mardi Gras Casino
DESCRIPTION:Share this:\n				Share on Facebook (Opens in new window)\n				Facebook\n			\n				Share on X (Opens in new window)\n				X\n			\n				Share on Pinterest (Opens in new window)\n				Pinterest\n			\n				Share on LinkedIn (Opens in new window)\n				LinkedIn\n			\n				Share on Reddit (Opens in new window)\n				Reddit\n			\n				Share on Tumblr (Opens in new window)\n				Tumblr\n			\n				Email a link to a friend (Opens in new window)\n				Email\n			\n				Print (Opens in new window)\n				Print\n			Like this:Like Loading...
URL:https://retromaniatalent.com/event/bm-rr-mardi-gras-casino-2/
LOCATION:Mardi Gras Casino\, 300 Main Street\, Black Hawk\, CO\, United States
CATEGORIES:Boogie Machine,Ronnie Raygun
END:VEVENT
BEGIN:VEVENT
DTSTART;TZID=America/Denver:20170303T200000
DTEND;TZID=America/Denver:20170303T200000
DTSTAMP:20260423T202010
CREATED:20170224T011155Z
LAST-MODIFIED:20170305T213736Z
UID:879-1488571200-1488571200@retromaniatalent.com
SUMMARY:Ronnie Raygun @ Mardi Gras Casino
DESCRIPTION:Share this:\n				Share on Facebook (Opens in new window)\n				Facebook\n			\n				Share on X (Opens in new window)\n				X\n			\n				Share on Pinterest (Opens in new window)\n				Pinterest\n			\n				Share on LinkedIn (Opens in new window)\n				LinkedIn\n			\n				Share on Reddit (Opens in new window)\n				Reddit\n			\n				Share on Tumblr (Opens in new window)\n				Tumblr\n			\n				Email a link to a friend (Opens in new window)\n				Email\n			\n				Print (Opens in new window)\n				Print\n			Like this:Like Loading...
URL:https://retromaniatalent.com/event/bm-rr-mardi-gras-casino/
LOCATION:Mardi Gras Casino\, 300 Main Street\, Black Hawk\, CO\, United States
CATEGORIES:Ronnie Raygun
END:VEVENT
BEGIN:VEVENT
DTSTART;TZID=America/Denver:20170203T210000
DTEND;TZID=America/Denver:20170203T210000
DTSTAMP:20260423T202010
CREATED:20161124T004900Z
LAST-MODIFIED:20161124T004900Z
UID:855-1486155600-1486155600@retromaniatalent.com
SUMMARY:Ronnie Raygun @ McCarthy's
DESCRIPTION:Share this:\n				Share on Facebook (Opens in new window)\n				Facebook\n			\n				Share on X (Opens in new window)\n				X\n			\n				Share on Pinterest (Opens in new window)\n				Pinterest\n			\n				Share on LinkedIn (Opens in new window)\n				LinkedIn\n			\n				Share on Reddit (Opens in new window)\n				Reddit\n			\n				Share on Tumblr (Opens in new window)\n				Tumblr\n			\n				Email a link to a friend (Opens in new window)\n				Email\n			\n				Print (Opens in new window)\n				Print\n			Like this:Like Loading...
URL:https://retromaniatalent.com/event/ronnie-raygun-mccarthys-3/
LOCATION:McCarthy’s\, 15350 E. Smoky Hill Road\, Aurora\, CO\, United States
CATEGORIES:Ronnie Raygun
END:VEVENT
BEGIN:VEVENT
DTSTART;TZID=America/Denver:20161219T180000
DTEND;TZID=America/Denver:20161219T210000
DTSTAMP:20260423T202010
CREATED:20161124T004309Z
LAST-MODIFIED:20161124T004309Z
UID:853-1482170400-1482181200@retromaniatalent.com
SUMMARY:Ronnie Raygun @ Denver Christkindl Market
DESCRIPTION:Wear your ugly sweaters! \nShare this:\n				Share on Facebook (Opens in new window)\n				Facebook\n			\n				Share on X (Opens in new window)\n				X\n			\n				Share on Pinterest (Opens in new window)\n				Pinterest\n			\n				Share on LinkedIn (Opens in new window)\n				LinkedIn\n			\n				Share on Reddit (Opens in new window)\n				Reddit\n			\n				Share on Tumblr (Opens in new window)\n				Tumblr\n			\n				Email a link to a friend (Opens in new window)\n				Email\n			\n				Print (Opens in new window)\n				Print\n			Like this:Like Loading...
URL:https://retromaniatalent.com/event/ronnie-raygun-denver-christkindl-market/
LOCATION:Skyline Park\, 16th St. & Arapahoe\, Denver\, United States
CATEGORIES:Ronnie Raygun
END:VEVENT
END:VCALENDAR