BEGIN:VCALENDAR
VERSION:2.0
PRODID:-//RetroMania Talent - ECPv6.15.20//NONSGML v1.0//EN
CALSCALE:GREGORIAN
METHOD:PUBLISH
X-WR-CALNAME:RetroMania Talent
X-ORIGINAL-URL:https://retromaniatalent.com
X-WR-CALDESC:Events for RetroMania Talent
REFRESH-INTERVAL;VALUE=DURATION:PT1H
X-Robots-Tag:noindex
X-PUBLISHED-TTL:PT1H
BEGIN:VTIMEZONE
TZID:America/Denver
BEGIN:DAYLIGHT
TZOFFSETFROM:-0700
TZOFFSETTO:-0600
TZNAME:MDT
DTSTART:20170312T090000
END:DAYLIGHT
BEGIN:STANDARD
TZOFFSETFROM:-0600
TZOFFSETTO:-0700
TZNAME:MST
DTSTART:20171105T080000
END:STANDARD
BEGIN:DAYLIGHT
TZOFFSETFROM:-0700
TZOFFSETTO:-0600
TZNAME:MDT
DTSTART:20180311T090000
END:DAYLIGHT
BEGIN:STANDARD
TZOFFSETFROM:-0600
TZOFFSETTO:-0700
TZNAME:MST
DTSTART:20181104T080000
END:STANDARD
BEGIN:DAYLIGHT
TZOFFSETFROM:-0700
TZOFFSETTO:-0600
TZNAME:MDT
DTSTART:20190310T090000
END:DAYLIGHT
BEGIN:STANDARD
TZOFFSETFROM:-0600
TZOFFSETTO:-0700
TZNAME:MST
DTSTART:20191103T080000
END:STANDARD
END:VTIMEZONE
BEGIN:VEVENT
DTSTART;TZID=America/Denver:20180831T183000
DTEND;TZID=America/Denver:20180831T213000
DTSTAMP:20260425T062026
CREATED:20180318T000530Z
LAST-MODIFIED:20180318T000530Z
UID:1076-1535740200-1535751000@retromaniatalent.com
SUMMARY:Boogie Machine @ Greeley Friday Fest
DESCRIPTION:Share this:\n				Share on Facebook (Opens in new window)\n				Facebook\n			\n				Share on X (Opens in new window)\n				X\n			\n				Share on Pinterest (Opens in new window)\n				Pinterest\n			\n				Share on LinkedIn (Opens in new window)\n				LinkedIn\n			\n				Share on Reddit (Opens in new window)\n				Reddit\n			\n				Share on Tumblr (Opens in new window)\n				Tumblr\n			\n				Email a link to a friend (Opens in new window)\n				Email\n			\n				Print (Opens in new window)\n				Print\n			Like this:Like Loading...
URL:https://retromaniatalent.com/event/boogie-machine-greeley-friday-fest-2/
LOCATION:9th Street Plaza\, Greeley\, CO\, United States
CATEGORIES:Boogie Machine
END:VEVENT
BEGIN:VEVENT
DTSTART;TZID=America/Denver:20180824T180000
DTEND;TZID=America/Denver:20180824T210000
DTSTAMP:20260425T062027
CREATED:20180318T000342Z
LAST-MODIFIED:20180318T000342Z
UID:1074-1535133600-1535144400@retromaniatalent.com
SUMMARY:Ronnie Raygun @ Viewhouse
DESCRIPTION:Share this:\n				Share on Facebook (Opens in new window)\n				Facebook\n			\n				Share on X (Opens in new window)\n				X\n			\n				Share on Pinterest (Opens in new window)\n				Pinterest\n			\n				Share on LinkedIn (Opens in new window)\n				LinkedIn\n			\n				Share on Reddit (Opens in new window)\n				Reddit\n			\n				Share on Tumblr (Opens in new window)\n				Tumblr\n			\n				Email a link to a friend (Opens in new window)\n				Email\n			\n				Print (Opens in new window)\n				Print\n			Like this:Like Loading...
URL:https://retromaniatalent.com/event/ronnie-raygun-viewhouse/
LOCATION:Viewhouse DTC
CATEGORIES:Ronnie Raygun
END:VEVENT
BEGIN:VEVENT
DTSTART;TZID=America/Denver:20180818T160000
DTEND;TZID=America/Denver:20180818T200000
DTSTAMP:20260425T062027
CREATED:20180527T154224Z
LAST-MODIFIED:20180527T154224Z
UID:1107-1534608000-1534622400@retromaniatalent.com
SUMMARY:Boogie Machine @ Alf's Pub
DESCRIPTION:Share this:\n				Share on Facebook (Opens in new window)\n				Facebook\n			\n				Share on X (Opens in new window)\n				X\n			\n				Share on Pinterest (Opens in new window)\n				Pinterest\n			\n				Share on LinkedIn (Opens in new window)\n				LinkedIn\n			\n				Share on Reddit (Opens in new window)\n				Reddit\n			\n				Share on Tumblr (Opens in new window)\n				Tumblr\n			\n				Email a link to a friend (Opens in new window)\n				Email\n			\n				Print (Opens in new window)\n				Print\n			Like this:Like Loading...
URL:https://retromaniatalent.com/event/boogie-machine-alfs-pub-4/
LOCATION:WY
CATEGORIES:Boogie Machine
END:VEVENT
BEGIN:VEVENT
DTSTART;VALUE=DATE:20180817
DTEND;VALUE=DATE:20180818
DTSTAMP:20260425T062027
CREATED:20180527T154310Z
LAST-MODIFIED:20181015T221348Z
UID:1109-1534474800-1534550399@retromaniatalent.com
SUMMARY:Boogie Machine at The Knotty Pine Saloon
DESCRIPTION:Share this:\n				Share on Facebook (Opens in new window)\n				Facebook\n			\n				Share on X (Opens in new window)\n				X\n			\n				Share on Pinterest (Opens in new window)\n				Pinterest\n			\n				Share on LinkedIn (Opens in new window)\n				LinkedIn\n			\n				Share on Reddit (Opens in new window)\n				Reddit\n			\n				Share on Tumblr (Opens in new window)\n				Tumblr\n			\n				Email a link to a friend (Opens in new window)\n				Email\n			\n				Print (Opens in new window)\n				Print\n			Like this:Like Loading...
URL:https://retromaniatalent.com/event/tba/
LOCATION:Knotty Pine Saloon\, 603 W. 6th Street\, Pine Bluffs\, Wyoming\, 82082
CATEGORIES:Boogie Machine
END:VEVENT
BEGIN:VEVENT
DTSTART;VALUE=DATE:20180808
DTEND;VALUE=DATE:20180809
DTSTAMP:20260425T062027
CREATED:20180730T061608Z
LAST-MODIFIED:20180730T061608Z
UID:1121-1533697200-1533772799@retromaniatalent.com
SUMMARY:Boogie Machine @ Private Funktion - Cherry Creek
DESCRIPTION:Share this:\n				Share on Facebook (Opens in new window)\n				Facebook\n			\n				Share on X (Opens in new window)\n				X\n			\n				Share on Pinterest (Opens in new window)\n				Pinterest\n			\n				Share on LinkedIn (Opens in new window)\n				LinkedIn\n			\n				Share on Reddit (Opens in new window)\n				Reddit\n			\n				Share on Tumblr (Opens in new window)\n				Tumblr\n			\n				Email a link to a friend (Opens in new window)\n				Email\n			\n				Print (Opens in new window)\n				Print\n			Like this:Like Loading...
URL:https://retromaniatalent.com/event/boogie-machine-private-funktion-cherry-creek/
LOCATION:WY
CATEGORIES:Boogie Machine
END:VEVENT
BEGIN:VEVENT
DTSTART;TZID=America/Denver:20180728T180000
DTEND;TZID=America/Denver:20180728T210000
DTSTAMP:20260425T062027
CREATED:20180318T000135Z
LAST-MODIFIED:20180318T000135Z
UID:1072-1532800800-1532811600@retromaniatalent.com
SUMMARY:Boogie Machine @ Arrowhead Shores
DESCRIPTION:FREE\, come enjoy some great live music with your neighbors.  Food and activities for all ages. Bring your chairs\, blankets and coolers. \nShare this:\n				Share on Facebook (Opens in new window)\n				Facebook\n			\n				Share on X (Opens in new window)\n				X\n			\n				Share on Pinterest (Opens in new window)\n				Pinterest\n			\n				Share on LinkedIn (Opens in new window)\n				LinkedIn\n			\n				Share on Reddit (Opens in new window)\n				Reddit\n			\n				Share on Tumblr (Opens in new window)\n				Tumblr\n			\n				Email a link to a friend (Opens in new window)\n				Email\n			\n				Print (Opens in new window)\n				Print\n			Like this:Like Loading...
URL:https://retromaniatalent.com/event/boogie-machine-arrowhead-shores/
LOCATION:WY
CATEGORIES:Boogie Machine
END:VEVENT
BEGIN:VEVENT
DTSTART;TZID=America/Denver:20180720T180000
DTEND;TZID=America/Denver:20180720T200000
DTSTAMP:20260425T062027
CREATED:20180527T153951Z
LAST-MODIFIED:20180527T153951Z
UID:1104-1532109600-1532116800@retromaniatalent.com
SUMMARY:Boogie Machine @ Cheyenne Frontier Park
DESCRIPTION:Share this:\n				Share on Facebook (Opens in new window)\n				Facebook\n			\n				Share on X (Opens in new window)\n				X\n			\n				Share on Pinterest (Opens in new window)\n				Pinterest\n			\n				Share on LinkedIn (Opens in new window)\n				LinkedIn\n			\n				Share on Reddit (Opens in new window)\n				Reddit\n			\n				Share on Tumblr (Opens in new window)\n				Tumblr\n			\n				Email a link to a friend (Opens in new window)\n				Email\n			\n				Print (Opens in new window)\n				Print\n			Like this:Like Loading...
URL:https://retromaniatalent.com/event/boogie-machine-cheyenne-frontier-park/
LOCATION:Cheyenne Frontier Park\, 4610 Carey Ave.\, Cheyenne\, WY
CATEGORIES:Boogie Machine
END:VEVENT
BEGIN:VEVENT
DTSTART;TZID=America/Denver:20180714T180000
DTEND;TZID=America/Denver:20180714T220000
DTSTAMP:20260425T062027
CREATED:20180317T235234Z
LAST-MODIFIED:20180317T235234Z
UID:1070-1531591200-1531605600@retromaniatalent.com
SUMMARY:Boogie Machine @ Grand River Vineyards - for Homeward Bound
DESCRIPTION:Get your tickets early!!! \nShare this:\n				Share on Facebook (Opens in new window)\n				Facebook\n			\n				Share on X (Opens in new window)\n				X\n			\n				Share on Pinterest (Opens in new window)\n				Pinterest\n			\n				Share on LinkedIn (Opens in new window)\n				LinkedIn\n			\n				Share on Reddit (Opens in new window)\n				Reddit\n			\n				Share on Tumblr (Opens in new window)\n				Tumblr\n			\n				Email a link to a friend (Opens in new window)\n				Email\n			\n				Print (Opens in new window)\n				Print\n			Like this:Like Loading...
URL:https://retromaniatalent.com/event/boogie-machine-grand-river-vineyards-homeward-bound/
LOCATION:Grande River Vineyards\, 787 Elberta Ave.\, Palisade\, CO\, United States
CATEGORIES:Boogie Machine
END:VEVENT
BEGIN:VEVENT
DTSTART;TZID=America/Denver:20180703T190000
DTEND;TZID=America/Denver:20180703T210000
DTSTAMP:20260425T062027
CREATED:20180317T234919Z
LAST-MODIFIED:20180317T234919Z
UID:1003-1530644400-1530651600@retromaniatalent.com
SUMMARY:Boogie Machine @ Adam's County Stars & Stripes Celebration
DESCRIPTION:Share this:\n				Share on Facebook (Opens in new window)\n				Facebook\n			\n				Share on X (Opens in new window)\n				X\n			\n				Share on Pinterest (Opens in new window)\n				Pinterest\n			\n				Share on LinkedIn (Opens in new window)\n				LinkedIn\n			\n				Share on Reddit (Opens in new window)\n				Reddit\n			\n				Share on Tumblr (Opens in new window)\n				Tumblr\n			\n				Email a link to a friend (Opens in new window)\n				Email\n			\n				Print (Opens in new window)\n				Print\n			Like this:Like Loading...
URL:https://retromaniatalent.com/event/boogie-machine-adams-county-stars-stripes-celebration/
LOCATION:Adams County Fairgrounds\, 9755 Henderson Road\, Brighton\, CO\, United States
CATEGORIES:Boogie Machine
END:VEVENT
BEGIN:VEVENT
DTSTART;TZID=America/Denver:20180629T180000
DTEND;TZID=America/Denver:20180629T220000
DTSTAMP:20260425T062027
CREATED:20180527T153509Z
LAST-MODIFIED:20180527T153509Z
UID:1101-1530295200-1530309600@retromaniatalent.com
SUMMARY:Boogie Machine @ City of Florence
DESCRIPTION:Share this:\n				Share on Facebook (Opens in new window)\n				Facebook\n			\n				Share on X (Opens in new window)\n				X\n			\n				Share on Pinterest (Opens in new window)\n				Pinterest\n			\n				Share on LinkedIn (Opens in new window)\n				LinkedIn\n			\n				Share on Reddit (Opens in new window)\n				Reddit\n			\n				Share on Tumblr (Opens in new window)\n				Tumblr\n			\n				Email a link to a friend (Opens in new window)\n				Email\n			\n				Print (Opens in new window)\n				Print\n			Like this:Like Loading...
URL:https://retromaniatalent.com/event/boogie-machine-city-florence/
LOCATION:Pioneer Park\, 314 N. Pike's Peak\, Florence\, CO\, United States
CATEGORIES:Boogie Machine
END:VEVENT
BEGIN:VEVENT
DTSTART;TZID=America/Denver:20180622T200000
DTEND;TZID=America/Denver:20180622T220000
DTSTAMP:20260425T062027
CREATED:20180325T001934Z
LAST-MODIFIED:20180404T175053Z
UID:1079-1529697600-1529704800@retromaniatalent.com
SUMMARY:Boogie Machine @ Friday's on the Plaza
DESCRIPTION:We are NOT opening this year so please plan ahead. We don’t want to miss you! \nShare this:\n				Share on Facebook (Opens in new window)\n				Facebook\n			\n				Share on X (Opens in new window)\n				X\n			\n				Share on Pinterest (Opens in new window)\n				Pinterest\n			\n				Share on LinkedIn (Opens in new window)\n				LinkedIn\n			\n				Share on Reddit (Opens in new window)\n				Reddit\n			\n				Share on Tumblr (Opens in new window)\n				Tumblr\n			\n				Email a link to a friend (Opens in new window)\n				Email\n			\n				Print (Opens in new window)\n				Print\n			Like this:Like Loading...
URL:https://retromaniatalent.com/event/boogie-machine-fridays-plaza-3/
LOCATION:Cheyenne Depot Plaza\, Cheyenne\, WY\, United States
CATEGORIES:Boogie Machine
END:VEVENT
BEGIN:VEVENT
DTSTART;TZID=America/Denver:20180621T183000
DTEND;TZID=America/Denver:20180621T203000
DTSTAMP:20260425T062027
CREATED:20180317T234614Z
LAST-MODIFIED:20180317T234614Z
UID:1068-1529605800-1529613000@retromaniatalent.com
SUMMARY:Boogie Machine - Civic Center Ampitheater - Englewood
DESCRIPTION:Outdoor Concert \nShare this:\n				Share on Facebook (Opens in new window)\n				Facebook\n			\n				Share on X (Opens in new window)\n				X\n			\n				Share on Pinterest (Opens in new window)\n				Pinterest\n			\n				Share on LinkedIn (Opens in new window)\n				LinkedIn\n			\n				Share on Reddit (Opens in new window)\n				Reddit\n			\n				Share on Tumblr (Opens in new window)\n				Tumblr\n			\n				Email a link to a friend (Opens in new window)\n				Email\n			\n				Print (Opens in new window)\n				Print\n			Like this:Like Loading...
URL:https://retromaniatalent.com/event/boogie-machine-civic-center-ampitheater-englewood/
LOCATION:Civic Center Ampitheater\, 1000 Englewood Parkway\, Englewood\, CO\, United States
CATEGORIES:Boogie Machine
END:VEVENT
BEGIN:VEVENT
DTSTART;VALUE=DATE:20180620
DTEND;VALUE=DATE:20180621
DTSTAMP:20260425T062027
CREATED:20180317T234337Z
LAST-MODIFIED:20180317T234429Z
UID:1066-1529463600-1529539199@retromaniatalent.com
SUMMARY:Boogie Machine @ Private Funktion - Cheyenne
DESCRIPTION:Share this:\n				Share on Facebook (Opens in new window)\n				Facebook\n			\n				Share on X (Opens in new window)\n				X\n			\n				Share on Pinterest (Opens in new window)\n				Pinterest\n			\n				Share on LinkedIn (Opens in new window)\n				LinkedIn\n			\n				Share on Reddit (Opens in new window)\n				Reddit\n			\n				Share on Tumblr (Opens in new window)\n				Tumblr\n			\n				Email a link to a friend (Opens in new window)\n				Email\n			\n				Print (Opens in new window)\n				Print\n			Like this:Like Loading...
URL:https://retromaniatalent.com/event/boogie-machine-private-funktion-cheyenne-3/
LOCATION:WY
CATEGORIES:Boogie Machine
END:VEVENT
BEGIN:VEVENT
DTSTART;TZID=America/Denver:20180616T210000
DTEND;TZID=America/Denver:20180616T210000
DTSTAMP:20260425T062027
CREATED:20180527T153203Z
LAST-MODIFIED:20180527T153713Z
UID:1098-1529182800-1529182800@retromaniatalent.com
SUMMARY:Ronnie Raygun @ Hard Rock Cafe - Denver Comic Con After Party
DESCRIPTION:Share this:\n				Share on Facebook (Opens in new window)\n				Facebook\n			\n				Share on X (Opens in new window)\n				X\n			\n				Share on Pinterest (Opens in new window)\n				Pinterest\n			\n				Share on LinkedIn (Opens in new window)\n				LinkedIn\n			\n				Share on Reddit (Opens in new window)\n				Reddit\n			\n				Share on Tumblr (Opens in new window)\n				Tumblr\n			\n				Email a link to a friend (Opens in new window)\n				Email\n			\n				Print (Opens in new window)\n				Print\n			Like this:Like Loading...
URL:https://retromaniatalent.com/event/ronnie-raygun-hard-rock-cafe-denver-comic-con-party/
LOCATION:Hard Rock Cafe\, 500 16th St\, Denver\, CO\, United States
CATEGORIES:Ronnie Raygun
END:VEVENT
BEGIN:VEVENT
DTSTART;TZID=America/Denver:20180615T193000
DTEND;TZID=America/Denver:20180615T193000
DTSTAMP:20260425T062027
CREATED:20180527T151911Z
LAST-MODIFIED:20180527T151911Z
UID:1095-1529091000-1529091000@retromaniatalent.com
SUMMARY:Boogie Machine @ The Urban - Castle Rock
DESCRIPTION:Share this:\n				Share on Facebook (Opens in new window)\n				Facebook\n			\n				Share on X (Opens in new window)\n				X\n			\n				Share on Pinterest (Opens in new window)\n				Pinterest\n			\n				Share on LinkedIn (Opens in new window)\n				LinkedIn\n			\n				Share on Reddit (Opens in new window)\n				Reddit\n			\n				Share on Tumblr (Opens in new window)\n				Tumblr\n			\n				Email a link to a friend (Opens in new window)\n				Email\n			\n				Print (Opens in new window)\n				Print\n			Like this:Like Loading...
URL:https://retromaniatalent.com/event/boogie-machine-urban-castle-rock/
LOCATION:The Urban\, 221 Perry Street\, Castle Rock\, CO\, 80104
CATEGORIES:Boogie Machine
END:VEVENT
BEGIN:VEVENT
DTSTART;TZID=America/Denver:20180608T180000
DTEND;TZID=America/Denver:20180608T210000
DTSTAMP:20260425T062027
CREATED:20180317T234245Z
LAST-MODIFIED:20180317T234245Z
UID:1064-1528480800-1528491600@retromaniatalent.com
SUMMARY:Boogie Machine @ Viewhouse
DESCRIPTION:Share this:\n				Share on Facebook (Opens in new window)\n				Facebook\n			\n				Share on X (Opens in new window)\n				X\n			\n				Share on Pinterest (Opens in new window)\n				Pinterest\n			\n				Share on LinkedIn (Opens in new window)\n				LinkedIn\n			\n				Share on Reddit (Opens in new window)\n				Reddit\n			\n				Share on Tumblr (Opens in new window)\n				Tumblr\n			\n				Email a link to a friend (Opens in new window)\n				Email\n			\n				Print (Opens in new window)\n				Print\n			Like this:Like Loading...
URL:https://retromaniatalent.com/event/boogie-machine-viewhouse/
LOCATION:Viewhouse DTC
CATEGORIES:Boogie Machine
END:VEVENT
BEGIN:VEVENT
DTSTART;VALUE=DATE:20180601
DTEND;VALUE=DATE:20180602
DTSTAMP:20260425T062027
CREATED:20180317T233934Z
LAST-MODIFIED:20180317T233934Z
UID:1062-1527822000-1527897599@retromaniatalent.com
SUMMARY:Ronnie Raygun @ Private Funktion
DESCRIPTION:Share this:\n				Share on Facebook (Opens in new window)\n				Facebook\n			\n				Share on X (Opens in new window)\n				X\n			\n				Share on Pinterest (Opens in new window)\n				Pinterest\n			\n				Share on LinkedIn (Opens in new window)\n				LinkedIn\n			\n				Share on Reddit (Opens in new window)\n				Reddit\n			\n				Share on Tumblr (Opens in new window)\n				Tumblr\n			\n				Email a link to a friend (Opens in new window)\n				Email\n			\n				Print (Opens in new window)\n				Print\n			Like this:Like Loading...
URL:https://retromaniatalent.com/event/ronnie-raygun-private-funktion/
LOCATION:WY
CATEGORIES:Ronnie Raygun
END:VEVENT
BEGIN:VEVENT
DTSTART;TZID=America/Denver:20180526T170000
DTEND;TZID=America/Denver:20180526T220000
DTSTAMP:20260425T062027
CREATED:20180527T151308Z
LAST-MODIFIED:20180527T151308Z
UID:1093-1527354000-1527372000@retromaniatalent.com
SUMMARY:Boogie Machine @ Monarch Casino
DESCRIPTION:Share this:\n				Share on Facebook (Opens in new window)\n				Facebook\n			\n				Share on X (Opens in new window)\n				X\n			\n				Share on Pinterest (Opens in new window)\n				Pinterest\n			\n				Share on LinkedIn (Opens in new window)\n				LinkedIn\n			\n				Share on Reddit (Opens in new window)\n				Reddit\n			\n				Share on Tumblr (Opens in new window)\n				Tumblr\n			\n				Email a link to a friend (Opens in new window)\n				Email\n			\n				Print (Opens in new window)\n				Print\n			Like this:Like Loading...
URL:https://retromaniatalent.com/event/boogie-machine-monarch-casino-8/
LOCATION:Monarch Casino\, 488 Main Street\, Black Hawk\, CO\, United States
CATEGORIES:Boogie Machine
END:VEVENT
BEGIN:VEVENT
DTSTART;TZID=America/Denver:20180525T170000
DTEND;TZID=America/Denver:20180525T220000
DTSTAMP:20260425T062027
CREATED:20180527T151154Z
LAST-MODIFIED:20180527T151406Z
UID:1091-1527267600-1527285600@retromaniatalent.com
SUMMARY:Boogie Machine @ Monarch Casino
DESCRIPTION:Share this:\n				Share on Facebook (Opens in new window)\n				Facebook\n			\n				Share on X (Opens in new window)\n				X\n			\n				Share on Pinterest (Opens in new window)\n				Pinterest\n			\n				Share on LinkedIn (Opens in new window)\n				LinkedIn\n			\n				Share on Reddit (Opens in new window)\n				Reddit\n			\n				Share on Tumblr (Opens in new window)\n				Tumblr\n			\n				Email a link to a friend (Opens in new window)\n				Email\n			\n				Print (Opens in new window)\n				Print\n			Like this:Like Loading...
URL:https://retromaniatalent.com/event/boogie-machine-monarch-casino-7/
LOCATION:Monarch Casino\, 488 Main Street\, Black Hawk\, CO\, United States
CATEGORIES:Boogie Machine
END:VEVENT
BEGIN:VEVENT
DTSTART;VALUE=DATE:20180516
DTEND;VALUE=DATE:20180517
DTSTAMP:20260425T062027
CREATED:20180116T233210Z
LAST-MODIFIED:20180116T233210Z
UID:1013-1526439600-1526515199@retromaniatalent.com
SUMMARY:Ronnie Raygun @ Private Funktion - Black Hawk
DESCRIPTION:Share this:\n				Share on Facebook (Opens in new window)\n				Facebook\n			\n				Share on X (Opens in new window)\n				X\n			\n				Share on Pinterest (Opens in new window)\n				Pinterest\n			\n				Share on LinkedIn (Opens in new window)\n				LinkedIn\n			\n				Share on Reddit (Opens in new window)\n				Reddit\n			\n				Share on Tumblr (Opens in new window)\n				Tumblr\n			\n				Email a link to a friend (Opens in new window)\n				Email\n			\n				Print (Opens in new window)\n				Print\n			Like this:Like Loading...
URL:https://retromaniatalent.com/event/ronnie-raygun-private-funktion-black-hawk/
LOCATION:WY
CATEGORIES:Ronnie Raygun
END:VEVENT
BEGIN:VEVENT
DTSTART;VALUE=DATE:20180514
DTEND;VALUE=DATE:20180515
DTSTAMP:20260425T062027
CREATED:20180116T234603Z
LAST-MODIFIED:20180116T234603Z
UID:1049-1526266800-1526342399@retromaniatalent.com
SUMMARY:Unavailable
DESCRIPTION:Share this:\n				Share on Facebook (Opens in new window)\n				Facebook\n			\n				Share on X (Opens in new window)\n				X\n			\n				Share on Pinterest (Opens in new window)\n				Pinterest\n			\n				Share on LinkedIn (Opens in new window)\n				LinkedIn\n			\n				Share on Reddit (Opens in new window)\n				Reddit\n			\n				Share on Tumblr (Opens in new window)\n				Tumblr\n			\n				Email a link to a friend (Opens in new window)\n				Email\n			\n				Print (Opens in new window)\n				Print\n			Like this:Like Loading...
URL:https://retromaniatalent.com/event/unavailable-28/
LOCATION:WY
CATEGORIES:Boogie Machine,Jerry Lance Bergeson,Ronnie Raygun
END:VEVENT
BEGIN:VEVENT
DTSTART;VALUE=DATE:20180513
DTEND;VALUE=DATE:20180514
DTSTAMP:20260425T062027
CREATED:20180116T234522Z
LAST-MODIFIED:20180116T234522Z
UID:1047-1526180400-1526255999@retromaniatalent.com
SUMMARY:Unavailable
DESCRIPTION:Share this:\n				Share on Facebook (Opens in new window)\n				Facebook\n			\n				Share on X (Opens in new window)\n				X\n			\n				Share on Pinterest (Opens in new window)\n				Pinterest\n			\n				Share on LinkedIn (Opens in new window)\n				LinkedIn\n			\n				Share on Reddit (Opens in new window)\n				Reddit\n			\n				Share on Tumblr (Opens in new window)\n				Tumblr\n			\n				Email a link to a friend (Opens in new window)\n				Email\n			\n				Print (Opens in new window)\n				Print\n			Like this:Like Loading...
URL:https://retromaniatalent.com/event/unavailable-27/
LOCATION:WY
CATEGORIES:Boogie Machine,Jerry Lance Bergeson,Ronnie Raygun
END:VEVENT
BEGIN:VEVENT
DTSTART;VALUE=DATE:20180512
DTEND;VALUE=DATE:20180513
DTSTAMP:20260425T062027
CREATED:20180116T234413Z
LAST-MODIFIED:20180116T234413Z
UID:1045-1526094000-1526169599@retromaniatalent.com
SUMMARY:Unavailable
DESCRIPTION:Share this:\n				Share on Facebook (Opens in new window)\n				Facebook\n			\n				Share on X (Opens in new window)\n				X\n			\n				Share on Pinterest (Opens in new window)\n				Pinterest\n			\n				Share on LinkedIn (Opens in new window)\n				LinkedIn\n			\n				Share on Reddit (Opens in new window)\n				Reddit\n			\n				Share on Tumblr (Opens in new window)\n				Tumblr\n			\n				Email a link to a friend (Opens in new window)\n				Email\n			\n				Print (Opens in new window)\n				Print\n			Like this:Like Loading...
URL:https://retromaniatalent.com/event/unavailable-26/
LOCATION:WY
CATEGORIES:Boogie Machine,Jerry Lance Bergeson,Ronnie Raygun
END:VEVENT
BEGIN:VEVENT
DTSTART;VALUE=DATE:20180511
DTEND;VALUE=DATE:20180512
DTSTAMP:20260425T062027
CREATED:20180116T234337Z
LAST-MODIFIED:20180116T234337Z
UID:1043-1526007600-1526083199@retromaniatalent.com
SUMMARY:Unavailable
DESCRIPTION:Share this:\n				Share on Facebook (Opens in new window)\n				Facebook\n			\n				Share on X (Opens in new window)\n				X\n			\n				Share on Pinterest (Opens in new window)\n				Pinterest\n			\n				Share on LinkedIn (Opens in new window)\n				LinkedIn\n			\n				Share on Reddit (Opens in new window)\n				Reddit\n			\n				Share on Tumblr (Opens in new window)\n				Tumblr\n			\n				Email a link to a friend (Opens in new window)\n				Email\n			\n				Print (Opens in new window)\n				Print\n			Like this:Like Loading...
URL:https://retromaniatalent.com/event/unavailable-25/
LOCATION:WY
CATEGORIES:Boogie Machine,Jerry Lance Bergeson,Ronnie Raygun
END:VEVENT
BEGIN:VEVENT
DTSTART;VALUE=DATE:20180510
DTEND;VALUE=DATE:20180511
DTSTAMP:20260425T062027
CREATED:20180116T234302Z
LAST-MODIFIED:20180116T234302Z
UID:1041-1525921200-1525996799@retromaniatalent.com
SUMMARY:Unavailable
DESCRIPTION:Share this:\n				Share on Facebook (Opens in new window)\n				Facebook\n			\n				Share on X (Opens in new window)\n				X\n			\n				Share on Pinterest (Opens in new window)\n				Pinterest\n			\n				Share on LinkedIn (Opens in new window)\n				LinkedIn\n			\n				Share on Reddit (Opens in new window)\n				Reddit\n			\n				Share on Tumblr (Opens in new window)\n				Tumblr\n			\n				Email a link to a friend (Opens in new window)\n				Email\n			\n				Print (Opens in new window)\n				Print\n			Like this:Like Loading...
URL:https://retromaniatalent.com/event/unavailable-24/
LOCATION:WY
CATEGORIES:Boogie Machine,Jerry Lance Bergeson,Ronnie Raygun
END:VEVENT
BEGIN:VEVENT
DTSTART;VALUE=DATE:20180509
DTEND;VALUE=DATE:20180510
DTSTAMP:20260425T062027
CREATED:20180116T234231Z
LAST-MODIFIED:20180116T234231Z
UID:1039-1525834800-1525910399@retromaniatalent.com
SUMMARY:Unavailable
DESCRIPTION:Share this:\n				Share on Facebook (Opens in new window)\n				Facebook\n			\n				Share on X (Opens in new window)\n				X\n			\n				Share on Pinterest (Opens in new window)\n				Pinterest\n			\n				Share on LinkedIn (Opens in new window)\n				LinkedIn\n			\n				Share on Reddit (Opens in new window)\n				Reddit\n			\n				Share on Tumblr (Opens in new window)\n				Tumblr\n			\n				Email a link to a friend (Opens in new window)\n				Email\n			\n				Print (Opens in new window)\n				Print\n			Like this:Like Loading...
URL:https://retromaniatalent.com/event/unavailable-23/
LOCATION:WY
CATEGORIES:Boogie Machine,Jerry Lance Bergeson,Ronnie Raygun
END:VEVENT
BEGIN:VEVENT
DTSTART;VALUE=DATE:20180508
DTEND;VALUE=DATE:20180509
DTSTAMP:20260425T062027
CREATED:20180116T234159Z
LAST-MODIFIED:20180116T234159Z
UID:1037-1525748400-1525823999@retromaniatalent.com
SUMMARY:Unavailable
DESCRIPTION:Share this:\n				Share on Facebook (Opens in new window)\n				Facebook\n			\n				Share on X (Opens in new window)\n				X\n			\n				Share on Pinterest (Opens in new window)\n				Pinterest\n			\n				Share on LinkedIn (Opens in new window)\n				LinkedIn\n			\n				Share on Reddit (Opens in new window)\n				Reddit\n			\n				Share on Tumblr (Opens in new window)\n				Tumblr\n			\n				Email a link to a friend (Opens in new window)\n				Email\n			\n				Print (Opens in new window)\n				Print\n			Like this:Like Loading...
URL:https://retromaniatalent.com/event/unavailable-22/
LOCATION:WY
CATEGORIES:Boogie Machine,Jerry Lance Bergeson,Ronnie Raygun
END:VEVENT
BEGIN:VEVENT
DTSTART;VALUE=DATE:20180507
DTEND;VALUE=DATE:20180508
DTSTAMP:20260425T062027
CREATED:20180116T234126Z
LAST-MODIFIED:20180116T234126Z
UID:1035-1525662000-1525737599@retromaniatalent.com
SUMMARY:Unavailable
DESCRIPTION:Share this:\n				Share on Facebook (Opens in new window)\n				Facebook\n			\n				Share on X (Opens in new window)\n				X\n			\n				Share on Pinterest (Opens in new window)\n				Pinterest\n			\n				Share on LinkedIn (Opens in new window)\n				LinkedIn\n			\n				Share on Reddit (Opens in new window)\n				Reddit\n			\n				Share on Tumblr (Opens in new window)\n				Tumblr\n			\n				Email a link to a friend (Opens in new window)\n				Email\n			\n				Print (Opens in new window)\n				Print\n			Like this:Like Loading...
URL:https://retromaniatalent.com/event/unavailable-21/
LOCATION:WY
CATEGORIES:Boogie Machine,Jerry Lance Bergeson,Ronnie Raygun
END:VEVENT
BEGIN:VEVENT
DTSTART;VALUE=DATE:20180506
DTEND;VALUE=DATE:20180507
DTSTAMP:20260425T062027
CREATED:20180116T234053Z
LAST-MODIFIED:20180116T234053Z
UID:1033-1525575600-1525651199@retromaniatalent.com
SUMMARY:Unavailable
DESCRIPTION:Share this:\n				Share on Facebook (Opens in new window)\n				Facebook\n			\n				Share on X (Opens in new window)\n				X\n			\n				Share on Pinterest (Opens in new window)\n				Pinterest\n			\n				Share on LinkedIn (Opens in new window)\n				LinkedIn\n			\n				Share on Reddit (Opens in new window)\n				Reddit\n			\n				Share on Tumblr (Opens in new window)\n				Tumblr\n			\n				Email a link to a friend (Opens in new window)\n				Email\n			\n				Print (Opens in new window)\n				Print\n			Like this:Like Loading...
URL:https://retromaniatalent.com/event/unavailable-20/
LOCATION:WY
CATEGORIES:Boogie Machine,Jerry Lance Bergeson,Ronnie Raygun
END:VEVENT
BEGIN:VEVENT
DTSTART;VALUE=DATE:20180505
DTEND;VALUE=DATE:20180506
DTSTAMP:20260425T062027
CREATED:20180116T234021Z
LAST-MODIFIED:20180116T234021Z
UID:1031-1525489200-1525564799@retromaniatalent.com
SUMMARY:Unavailable
DESCRIPTION:Share this:\n				Share on Facebook (Opens in new window)\n				Facebook\n			\n				Share on X (Opens in new window)\n				X\n			\n				Share on Pinterest (Opens in new window)\n				Pinterest\n			\n				Share on LinkedIn (Opens in new window)\n				LinkedIn\n			\n				Share on Reddit (Opens in new window)\n				Reddit\n			\n				Share on Tumblr (Opens in new window)\n				Tumblr\n			\n				Email a link to a friend (Opens in new window)\n				Email\n			\n				Print (Opens in new window)\n				Print\n			Like this:Like Loading...
URL:https://retromaniatalent.com/event/unavailable-19/
LOCATION:WY
CATEGORIES:Boogie Machine,Jerry Lance Bergeson,Ronnie Raygun
END:VEVENT
END:VCALENDAR