BEGIN:VCALENDAR
VERSION:2.0
PRODID:-//RetroMania Talent - ECPv6.15.20//NONSGML v1.0//EN
CALSCALE:GREGORIAN
METHOD:PUBLISH
X-ORIGINAL-URL:https://retromaniatalent.com
X-WR-CALDESC:Events for RetroMania Talent
REFRESH-INTERVAL;VALUE=DURATION:PT1H
X-Robots-Tag:noindex
X-PUBLISHED-TTL:PT1H
BEGIN:VTIMEZONE
TZID:America/Denver
BEGIN:DAYLIGHT
TZOFFSETFROM:-0700
TZOFFSETTO:-0600
TZNAME:MDT
DTSTART:20220313T090000
END:DAYLIGHT
BEGIN:STANDARD
TZOFFSETFROM:-0600
TZOFFSETTO:-0700
TZNAME:MST
DTSTART:20221106T080000
END:STANDARD
BEGIN:DAYLIGHT
TZOFFSETFROM:-0700
TZOFFSETTO:-0600
TZNAME:MDT
DTSTART:20230312T090000
END:DAYLIGHT
BEGIN:STANDARD
TZOFFSETFROM:-0600
TZOFFSETTO:-0700
TZNAME:MST
DTSTART:20231105T080000
END:STANDARD
BEGIN:DAYLIGHT
TZOFFSETFROM:-0700
TZOFFSETTO:-0600
TZNAME:MDT
DTSTART:20240310T090000
END:DAYLIGHT
BEGIN:STANDARD
TZOFFSETFROM:-0600
TZOFFSETTO:-0700
TZNAME:MST
DTSTART:20241103T080000
END:STANDARD
END:VTIMEZONE
BEGIN:VEVENT
DTSTART;TZID=America/Denver:20230902T190000
DTEND;TZID=America/Denver:20230902T223000
DTSTAMP:20260424T210021
CREATED:20230901T182521Z
LAST-MODIFIED:20230901T182521Z
UID:6649-1693681200-1693693800@retromaniatalent.com
SUMMARY:Boogie Machine @ Wide Open Saloon
DESCRIPTION:Share this:\n				Share on Facebook (Opens in new window)\n				Facebook\n			\n				Share on X (Opens in new window)\n				X\n			\n				Share on Pinterest (Opens in new window)\n				Pinterest\n			\n				Share on LinkedIn (Opens in new window)\n				LinkedIn\n			\n				Share on Reddit (Opens in new window)\n				Reddit\n			\n				Share on Tumblr (Opens in new window)\n				Tumblr\n			\n				Email a link to a friend (Opens in new window)\n				Email\n			\n				Print (Opens in new window)\n				Print\n			Like this:Like Loading...
URL:https://retromaniatalent.com/event/boogie-machine-wide-open-saloon-2/
LOCATION:CO
CATEGORIES:Boogie Machine
END:VEVENT
BEGIN:VEVENT
DTSTART;VALUE=DATE:20230903
DTEND;VALUE=DATE:20230905
DTSTAMP:20260424T210021
CREATED:20230711T194017Z
LAST-MODIFIED:20230711T194017Z
UID:6603-1693710000-1693796399@retromaniatalent.com
SUMMARY:Boogie Machine @ Private Funktion
DESCRIPTION:Share this:\n				Share on Facebook (Opens in new window)\n				Facebook\n			\n				Share on X (Opens in new window)\n				X\n			\n				Share on Pinterest (Opens in new window)\n				Pinterest\n			\n				Share on LinkedIn (Opens in new window)\n				LinkedIn\n			\n				Share on Reddit (Opens in new window)\n				Reddit\n			\n				Share on Tumblr (Opens in new window)\n				Tumblr\n			\n				Email a link to a friend (Opens in new window)\n				Email\n			\n				Print (Opens in new window)\n				Print\n			Like this:Like Loading...
URL:https://retromaniatalent.com/event/boogie-machine-private-funktion-18/
LOCATION:CO
END:VEVENT
BEGIN:VEVENT
DTSTART;VALUE=DATE:20230916
DTEND;VALUE=DATE:20230918
DTSTAMP:20260424T210021
CREATED:20230917T175455Z
LAST-MODIFIED:20230917T175455Z
UID:6670-1694833200-1694919599@retromaniatalent.com
SUMMARY:Boogie Machine @ Private Funktion
DESCRIPTION:Share this:\n				Share on Facebook (Opens in new window)\n				Facebook\n			\n				Share on X (Opens in new window)\n				X\n			\n				Share on Pinterest (Opens in new window)\n				Pinterest\n			\n				Share on LinkedIn (Opens in new window)\n				LinkedIn\n			\n				Share on Reddit (Opens in new window)\n				Reddit\n			\n				Share on Tumblr (Opens in new window)\n				Tumblr\n			\n				Email a link to a friend (Opens in new window)\n				Email\n			\n				Print (Opens in new window)\n				Print\n			Like this:Like Loading...
URL:https://retromaniatalent.com/event/boogie-machine-private-funktion-19/
LOCATION:CO
CATEGORIES:Boogie Machine
END:VEVENT
BEGIN:VEVENT
DTSTART;TZID=America/Denver:20230917T130000
DTEND;TZID=America/Denver:20230917T160000
DTSTAMP:20260424T210021
CREATED:20230917T175546Z
LAST-MODIFIED:20230917T175546Z
UID:6672-1694955600-1694966400@retromaniatalent.com
SUMMARY:Oddy & The Siren @ Wild Goose
DESCRIPTION:Share this:\n				Share on Facebook (Opens in new window)\n				Facebook\n			\n				Share on X (Opens in new window)\n				X\n			\n				Share on Pinterest (Opens in new window)\n				Pinterest\n			\n				Share on LinkedIn (Opens in new window)\n				LinkedIn\n			\n				Share on Reddit (Opens in new window)\n				Reddit\n			\n				Share on Tumblr (Opens in new window)\n				Tumblr\n			\n				Email a link to a friend (Opens in new window)\n				Email\n			\n				Print (Opens in new window)\n				Print\n			Like this:Like Loading...
URL:https://retromaniatalent.com/event/oddy-the-siren-wild-goose-2/
LOCATION:Wild Goose\, 11160 Pikes Peak Drive\, Parker\, Colorado\, 80134
CATEGORIES:Oddy and the Siren
END:VEVENT
BEGIN:VEVENT
DTSTART;VALUE=DATE:20230919
DTEND;VALUE=DATE:20230921
DTSTAMP:20260424T210021
CREATED:20230917T175628Z
LAST-MODIFIED:20230917T175628Z
UID:6674-1695092400-1695178799@retromaniatalent.com
SUMMARY:Ronnie Raygun @ Private Funktion - Cheyenne
DESCRIPTION:Share this:\n				Share on Facebook (Opens in new window)\n				Facebook\n			\n				Share on X (Opens in new window)\n				X\n			\n				Share on Pinterest (Opens in new window)\n				Pinterest\n			\n				Share on LinkedIn (Opens in new window)\n				LinkedIn\n			\n				Share on Reddit (Opens in new window)\n				Reddit\n			\n				Share on Tumblr (Opens in new window)\n				Tumblr\n			\n				Email a link to a friend (Opens in new window)\n				Email\n			\n				Print (Opens in new window)\n				Print\n			Like this:Like Loading...
URL:https://retromaniatalent.com/event/ronnie-raygun-private-funktion-cheyenne-2/
LOCATION:CO
CATEGORIES:Ronnie Raygun
END:VEVENT
BEGIN:VEVENT
DTSTART;TZID=America/Denver:20230922T203000
DTEND;TZID=America/Denver:20230922T203000
DTSTAMP:20260424T210021
CREATED:20230917T175805Z
LAST-MODIFIED:20230917T175805Z
UID:6676-1695414600-1695414600@retromaniatalent.com
SUMMARY:Boogie Machine @ Studio at Mainstreet
DESCRIPTION:Share this:\n				Share on Facebook (Opens in new window)\n				Facebook\n			\n				Share on X (Opens in new window)\n				X\n			\n				Share on Pinterest (Opens in new window)\n				Pinterest\n			\n				Share on LinkedIn (Opens in new window)\n				LinkedIn\n			\n				Share on Reddit (Opens in new window)\n				Reddit\n			\n				Share on Tumblr (Opens in new window)\n				Tumblr\n			\n				Email a link to a friend (Opens in new window)\n				Email\n			\n				Print (Opens in new window)\n				Print\n			Like this:Like Loading...
URL:https://retromaniatalent.com/event/boogie-machine-studio-at-mainstreet/
LOCATION:The Studio at Mainstreet\, 19604 E Mainstreet\, Parker\, CO
CATEGORIES:Boogie Machine
END:VEVENT
BEGIN:VEVENT
DTSTART;TZID=America/Denver:20230923T190000
DTEND;TZID=America/Denver:20230923T220000
DTSTAMP:20260424T210021
CREATED:20230918T220352Z
LAST-MODIFIED:20230918T220545Z
UID:6698-1695495600-1695506400@retromaniatalent.com
SUMMARY:Boogie Machine @ The Bull Pin
DESCRIPTION:Come to Estes Park for the Autumn Gold Festival and stay for some groovy music at the Bull Pin at 7pm! \nShare this:\n				Share on Facebook (Opens in new window)\n				Facebook\n			\n				Share on X (Opens in new window)\n				X\n			\n				Share on Pinterest (Opens in new window)\n				Pinterest\n			\n				Share on LinkedIn (Opens in new window)\n				LinkedIn\n			\n				Share on Reddit (Opens in new window)\n				Reddit\n			\n				Share on Tumblr (Opens in new window)\n				Tumblr\n			\n				Email a link to a friend (Opens in new window)\n				Email\n			\n				Print (Opens in new window)\n				Print\n			Like this:Like Loading...
URL:https://retromaniatalent.com/event/boogie-machine-the-bull-pin/
LOCATION:The Bull Pin\, 555 S St. Vrain Ave.\, Estes Park\, Colorado
CATEGORIES:Boogie Machine
END:VEVENT
END:VCALENDAR