BEGIN:VCALENDAR
VERSION:2.0
PRODID:-//RetroMania Talent - ECPv6.15.20//NONSGML v1.0//EN
CALSCALE:GREGORIAN
METHOD:PUBLISH
X-WR-CALNAME:RetroMania Talent
X-ORIGINAL-URL:https://retromaniatalent.com
X-WR-CALDESC:Events for RetroMania Talent
REFRESH-INTERVAL;VALUE=DURATION:PT1H
X-Robots-Tag:noindex
X-PUBLISHED-TTL:PT1H
BEGIN:VTIMEZONE
TZID:America/Denver
BEGIN:DAYLIGHT
TZOFFSETFROM:-0700
TZOFFSETTO:-0600
TZNAME:MDT
DTSTART:20230312T090000
END:DAYLIGHT
BEGIN:STANDARD
TZOFFSETFROM:-0600
TZOFFSETTO:-0700
TZNAME:MST
DTSTART:20231105T080000
END:STANDARD
BEGIN:DAYLIGHT
TZOFFSETFROM:-0700
TZOFFSETTO:-0600
TZNAME:MDT
DTSTART:20240310T090000
END:DAYLIGHT
BEGIN:STANDARD
TZOFFSETFROM:-0600
TZOFFSETTO:-0700
TZNAME:MST
DTSTART:20241103T080000
END:STANDARD
BEGIN:DAYLIGHT
TZOFFSETFROM:-0700
TZOFFSETTO:-0600
TZNAME:MDT
DTSTART:20250309T090000
END:DAYLIGHT
BEGIN:STANDARD
TZOFFSETFROM:-0600
TZOFFSETTO:-0700
TZNAME:MST
DTSTART:20251102T080000
END:STANDARD
END:VTIMEZONE
BEGIN:VEVENT
DTSTART;TZID=America/Denver:20240405T200000
DTEND;TZID=America/Denver:20240405T200000
DTSTAMP:20260424T115318
CREATED:20240122T215802Z
LAST-MODIFIED:20240122T215802Z
UID:6853-1712347200-1712347200@retromaniatalent.com
SUMMARY:Boogie Machine @ Wild Goose Saloon
DESCRIPTION:Share this:\n				Share on Facebook (Opens in new window)\n				Facebook\n			\n				Share on X (Opens in new window)\n				X\n			\n				Share on Pinterest (Opens in new window)\n				Pinterest\n			\n				Share on LinkedIn (Opens in new window)\n				LinkedIn\n			\n				Share on Reddit (Opens in new window)\n				Reddit\n			\n				Share on Tumblr (Opens in new window)\n				Tumblr\n			\n				Email a link to a friend (Opens in new window)\n				Email\n			\n				Print (Opens in new window)\n				Print\n			Like this:Like Loading...
URL:https://retromaniatalent.com/event/boogie-machine-wild-goose-saloon/
LOCATION:Wild Goose\, 11160 Pikes Peak Drive\, Parker\, Colorado\, 80134
CATEGORIES:Boogie Machine
END:VEVENT
BEGIN:VEVENT
DTSTART;TZID=America/Denver:20240412T200000
DTEND;TZID=America/Denver:20240412T200000
DTSTAMP:20260424T115318
CREATED:20240122T215845Z
LAST-MODIFIED:20240122T215845Z
UID:6855-1712952000-1712952000@retromaniatalent.com
SUMMARY:Ronnie Raygun @ Greenfields
DESCRIPTION:Share this:\n				Share on Facebook (Opens in new window)\n				Facebook\n			\n				Share on X (Opens in new window)\n				X\n			\n				Share on Pinterest (Opens in new window)\n				Pinterest\n			\n				Share on LinkedIn (Opens in new window)\n				LinkedIn\n			\n				Share on Reddit (Opens in new window)\n				Reddit\n			\n				Share on Tumblr (Opens in new window)\n				Tumblr\n			\n				Email a link to a friend (Opens in new window)\n				Email\n			\n				Print (Opens in new window)\n				Print\n			Like this:Like Loading...
URL:https://retromaniatalent.com/event/ronnie-raygun-greenfields-10/
LOCATION:Greenfields\, 3355 S. Yarrow St.\, Lakewood\, CO
END:VEVENT
BEGIN:VEVENT
DTSTART;TZID=America/Denver:20240413T200000
DTEND;TZID=America/Denver:20240413T200000
DTSTAMP:20260424T115318
CREATED:20240122T215928Z
LAST-MODIFIED:20240122T215928Z
UID:6857-1713038400-1713038400@retromaniatalent.com
SUMMARY:Boogie Machine @ Greenfields
DESCRIPTION:Share this:\n				Share on Facebook (Opens in new window)\n				Facebook\n			\n				Share on X (Opens in new window)\n				X\n			\n				Share on Pinterest (Opens in new window)\n				Pinterest\n			\n				Share on LinkedIn (Opens in new window)\n				LinkedIn\n			\n				Share on Reddit (Opens in new window)\n				Reddit\n			\n				Share on Tumblr (Opens in new window)\n				Tumblr\n			\n				Email a link to a friend (Opens in new window)\n				Email\n			\n				Print (Opens in new window)\n				Print\n			Like this:Like Loading...
URL:https://retromaniatalent.com/event/boogie-machine-greenfields-21/
LOCATION:Greenfields\, 3355 S. Yarrow St.\, Lakewood\, CO
CATEGORIES:Boogie Machine
END:VEVENT
BEGIN:VEVENT
DTSTART;TZID=America/Denver:20240419T190000
DTEND;TZID=America/Denver:20240419T233000
DTSTAMP:20260424T115318
CREATED:20240305T031818Z
LAST-MODIFIED:20240305T033536Z
UID:6988-1713553200-1713569400@retromaniatalent.com
SUMMARY:Ronnie Raygun @ Bounce Empire
DESCRIPTION:BOUNCE EMPIRE IS A REVOLUTIONARY UPSCALE AMUSEMENT PARK CONCEPT\, DESIGNED FOR A FABULOUS FAMILY DAY OR NIGHT OUT\, DATE NIGHT\, TEAM BUILDING OR ANYTHING THAT BRINGS PEOPLE TOGETHER. Be sure to say you are there to see the band… we are included in the pass price! \nShare this:\n				Share on Facebook (Opens in new window)\n				Facebook\n			\n				Share on X (Opens in new window)\n				X\n			\n				Share on Pinterest (Opens in new window)\n				Pinterest\n			\n				Share on LinkedIn (Opens in new window)\n				LinkedIn\n			\n				Share on Reddit (Opens in new window)\n				Reddit\n			\n				Share on Tumblr (Opens in new window)\n				Tumblr\n			\n				Email a link to a friend (Opens in new window)\n				Email\n			\n				Print (Opens in new window)\n				Print\n			Like this:Like Loading...
URL:https://retromaniatalent.com/event/ronnie-raygun-bounce-empire/
LOCATION:Bounce Empire\, 1380 S. Public Rd.\, Lafayette\, Colorado
CATEGORIES:Ronnie Raygun
END:VEVENT
BEGIN:VEVENT
DTSTART;VALUE=DATE:20240420
DTEND;VALUE=DATE:20240422
DTSTAMP:20260424T115318
CREATED:20240310T200026Z
LAST-MODIFIED:20240310T200453Z
UID:7021-1713582000-1713668399@retromaniatalent.com
SUMMARY:Ronnie Raygun @ Private Funktion - Castle Pines
DESCRIPTION:Share this:\n				Share on Facebook (Opens in new window)\n				Facebook\n			\n				Share on X (Opens in new window)\n				X\n			\n				Share on Pinterest (Opens in new window)\n				Pinterest\n			\n				Share on LinkedIn (Opens in new window)\n				LinkedIn\n			\n				Share on Reddit (Opens in new window)\n				Reddit\n			\n				Share on Tumblr (Opens in new window)\n				Tumblr\n			\n				Email a link to a friend (Opens in new window)\n				Email\n			\n				Print (Opens in new window)\n				Print\n			Like this:Like Loading...
URL:https://retromaniatalent.com/event/ronnie-raygun-private-funktion-castle-pines/
LOCATION:CO
CATEGORIES:Ronnie Raygun
END:VEVENT
BEGIN:VEVENT
DTSTART;VALUE=DATE:20240421
DTEND;VALUE=DATE:20240423
DTSTAMP:20260424T115318
CREATED:20240210T031913Z
LAST-MODIFIED:20240310T200206Z
UID:6883-1713668400-1713754799@retromaniatalent.com
SUMMARY:Boogie Machine @ Private Funktion
DESCRIPTION:Share this:\n				Share on Facebook (Opens in new window)\n				Facebook\n			\n				Share on X (Opens in new window)\n				X\n			\n				Share on Pinterest (Opens in new window)\n				Pinterest\n			\n				Share on LinkedIn (Opens in new window)\n				LinkedIn\n			\n				Share on Reddit (Opens in new window)\n				Reddit\n			\n				Share on Tumblr (Opens in new window)\n				Tumblr\n			\n				Email a link to a friend (Opens in new window)\n				Email\n			\n				Print (Opens in new window)\n				Print\n			Like this:Like Loading...
URL:https://retromaniatalent.com/event/boogie-machine-private-funktion-20/
LOCATION:CO
CATEGORIES:Boogie Machine
END:VEVENT
BEGIN:VEVENT
DTSTART;TZID=America/Denver:20240424T173000
DTEND;TZID=America/Denver:20240424T203000
DTSTAMP:20260424T115318
CREATED:20240122T220026Z
LAST-MODIFIED:20240122T220026Z
UID:6859-1713979800-1713990600@retromaniatalent.com
SUMMARY:Jerry Lance Bergeson @ Colorado Tap House
DESCRIPTION:Share this:\n				Share on Facebook (Opens in new window)\n				Facebook\n			\n				Share on X (Opens in new window)\n				X\n			\n				Share on Pinterest (Opens in new window)\n				Pinterest\n			\n				Share on LinkedIn (Opens in new window)\n				LinkedIn\n			\n				Share on Reddit (Opens in new window)\n				Reddit\n			\n				Share on Tumblr (Opens in new window)\n				Tumblr\n			\n				Email a link to a friend (Opens in new window)\n				Email\n			\n				Print (Opens in new window)\n				Print\n			Like this:Like Loading...
URL:https://retromaniatalent.com/event/jerry-lance-bergeson-colorado-tap-house-4/
LOCATION:Colorado Tap House\, 14982 West 69th Ave.\, Arvada\, CO
CATEGORIES:Jerry Lance Bergeson
END:VEVENT
BEGIN:VEVENT
DTSTART;TZID=America/Denver:20240425T170000
DTEND;TZID=America/Denver:20240425T170000
DTSTAMP:20260424T115318
CREATED:20240210T032150Z
LAST-MODIFIED:20240310T200327Z
UID:6885-1714064400-1714064400@retromaniatalent.com
SUMMARY:Boogie Machine @ Freedom Service Dogs FUNdraiser
DESCRIPTION:Diamonds in the Ruff: Disco InFURno \nSave the date! Join us on Thursday\, April 25 for the 12th annual Diamonds in the Ruff fundraising event in support of Freedom Service Dogs. Bring your platform shoes and groovy dance moves to our new venue—The Hangar Club in Denver—for an exclusive evening of disco delights. Enjoy live entertainment\, delicious food\, and interactive ways to learn more about how our dogs make a difference for people with disabilities. \nBuy tickets or Donate on the site listed. \nShare this:\n				Share on Facebook (Opens in new window)\n				Facebook\n			\n				Share on X (Opens in new window)\n				X\n			\n				Share on Pinterest (Opens in new window)\n				Pinterest\n			\n				Share on LinkedIn (Opens in new window)\n				LinkedIn\n			\n				Share on Reddit (Opens in new window)\n				Reddit\n			\n				Share on Tumblr (Opens in new window)\n				Tumblr\n			\n				Email a link to a friend (Opens in new window)\n				Email\n			\n				Print (Opens in new window)\n				Print\n			Like this:Like Loading...
URL:https://retromaniatalent.com/event/boogie-machine-private-funktion-21/
LOCATION:CO
CATEGORIES:Boogie Machine
END:VEVENT
BEGIN:VEVENT
DTSTART;TZID=America/Denver:20240427T190000
DTEND;TZID=America/Denver:20240427T223000
DTSTAMP:20260424T115318
CREATED:20240305T032202Z
LAST-MODIFIED:20240412T012933Z
UID:6991-1714244400-1714257000@retromaniatalent.com
SUMMARY:Boogie Machine @ Left Hand Brewing
DESCRIPTION:Get your groove on at Nitro Night! Join us in the Tasting Room for an evening of disco beats courtesy of Boogie Machine\, & sip on exclusive\, smooth Nitro brews from Left Hand & six of your favorite Colorado craft breweries including: Bristol\, Wibby\, Bootstrap\, Mythmaker\, Purpose & River North. \nDust off those bell-bottoms\, glitter up\, & shimmy into those platform shoes – it’s a disco inferno at Nitro Night! Costumes are highly encouraged. \nTickets are $20 and include your first sample pour. Get yours before they sell out. \nLet the good times flow like Nitro! \nShare this:\n				Share on Facebook (Opens in new window)\n				Facebook\n			\n				Share on X (Opens in new window)\n				X\n			\n				Share on Pinterest (Opens in new window)\n				Pinterest\n			\n				Share on LinkedIn (Opens in new window)\n				LinkedIn\n			\n				Share on Reddit (Opens in new window)\n				Reddit\n			\n				Share on Tumblr (Opens in new window)\n				Tumblr\n			\n				Email a link to a friend (Opens in new window)\n				Email\n			\n				Print (Opens in new window)\n				Print\n			Like this:Like Loading...
URL:https://retromaniatalent.com/event/boogie-machine-left-hand-brewing/
LOCATION:Left Hand Brewing\, 1265 Boston Ave.\, Longmont\, Colorado
CATEGORIES:Boogie Machine
END:VEVENT
END:VCALENDAR