BEGIN:VCALENDAR
VERSION:2.0
PRODID:-//RetroMania Talent - ECPv6.15.20//NONSGML v1.0//EN
CALSCALE:GREGORIAN
METHOD:PUBLISH
X-WR-CALNAME:RetroMania Talent
X-ORIGINAL-URL:https://retromaniatalent.com
X-WR-CALDESC:Events for RetroMania Talent
REFRESH-INTERVAL;VALUE=DURATION:PT1H
X-Robots-Tag:noindex
X-PUBLISHED-TTL:PT1H
BEGIN:VTIMEZONE
TZID:America/Denver
BEGIN:DAYLIGHT
TZOFFSETFROM:-0700
TZOFFSETTO:-0600
TZNAME:MDT
DTSTART:20230312T090000
END:DAYLIGHT
BEGIN:STANDARD
TZOFFSETFROM:-0600
TZOFFSETTO:-0700
TZNAME:MST
DTSTART:20231105T080000
END:STANDARD
BEGIN:DAYLIGHT
TZOFFSETFROM:-0700
TZOFFSETTO:-0600
TZNAME:MDT
DTSTART:20240310T090000
END:DAYLIGHT
BEGIN:STANDARD
TZOFFSETFROM:-0600
TZOFFSETTO:-0700
TZNAME:MST
DTSTART:20241103T080000
END:STANDARD
BEGIN:DAYLIGHT
TZOFFSETFROM:-0700
TZOFFSETTO:-0600
TZNAME:MDT
DTSTART:20250309T090000
END:DAYLIGHT
BEGIN:STANDARD
TZOFFSETFROM:-0600
TZOFFSETTO:-0700
TZNAME:MST
DTSTART:20251102T080000
END:STANDARD
END:VTIMEZONE
BEGIN:VEVENT
DTSTART;TZID=America/Denver:20240524T173000
DTEND;TZID=America/Denver:20240524T203000
DTSTAMP:20260424T104417
CREATED:20240305T032927Z
LAST-MODIFIED:20240305T032927Z
UID:6996-1716571800-1716582600@retromaniatalent.com
SUMMARY:Jerry Lance Bergeson @ Colorado Tap House
DESCRIPTION:Share this:\n				Share on Facebook (Opens in new window)\n				Facebook\n			\n				Share on X (Opens in new window)\n				X\n			\n				Share on Pinterest (Opens in new window)\n				Pinterest\n			\n				Share on LinkedIn (Opens in new window)\n				LinkedIn\n			\n				Share on Reddit (Opens in new window)\n				Reddit\n			\n				Share on Tumblr (Opens in new window)\n				Tumblr\n			\n				Email a link to a friend (Opens in new window)\n				Email\n			\n				Print (Opens in new window)\n				Print\n			Like this:Like Loading...
URL:https://retromaniatalent.com/event/jerry-lance-bergeson-colorado-tap-house-8/
LOCATION:Colorado Tap House\, 14982 West 69th Ave.\, Arvada\, CO
CATEGORIES:Jerry Lance Bergeson
END:VEVENT
BEGIN:VEVENT
DTSTART;TZID=America/Denver:20240525T180000
DTEND;TZID=America/Denver:20240525T223000
DTSTAMP:20260424T104417
CREATED:20240305T032434Z
LAST-MODIFIED:20240305T033844Z
UID:6994-1716660000-1716676200@retromaniatalent.com
SUMMARY:Boogie Machine @ Bounce Empire
DESCRIPTION:BOUNCE EMPIRE IS A REVOLUTIONARY UPSCALE AMUSEMENT PARK CONCEPT\, DESIGNED FOR A FABULOUS FAMILY DAY OR NIGHT OUT\, DATE NIGHT\, TEAM BUILDING OR ANYTHING THAT BRINGS PEOPLE TOGETHER. Be sure to tell them you are there to see the band… we are included in the pass price! \nShare this:\n				Share on Facebook (Opens in new window)\n				Facebook\n			\n				Share on X (Opens in new window)\n				X\n			\n				Share on Pinterest (Opens in new window)\n				Pinterest\n			\n				Share on LinkedIn (Opens in new window)\n				LinkedIn\n			\n				Share on Reddit (Opens in new window)\n				Reddit\n			\n				Share on Tumblr (Opens in new window)\n				Tumblr\n			\n				Email a link to a friend (Opens in new window)\n				Email\n			\n				Print (Opens in new window)\n				Print\n			Like this:Like Loading...
URL:https://retromaniatalent.com/event/boogie-machine-bounce-empire/
LOCATION:Bounce Empire\, 1380 S. Public Rd.\, Lafayette\, Colorado
CATEGORIES:Boogie Machine
END:VEVENT
END:VCALENDAR