BEGIN:VCALENDAR
VERSION:2.0
PRODID:-//RetroMania Talent - ECPv6.15.20//NONSGML v1.0//EN
CALSCALE:GREGORIAN
METHOD:PUBLISH
X-WR-CALNAME:RetroMania Talent
X-ORIGINAL-URL:https://retromaniatalent.com
X-WR-CALDESC:Events for RetroMania Talent
REFRESH-INTERVAL;VALUE=DURATION:PT1H
X-Robots-Tag:noindex
X-PUBLISHED-TTL:PT1H
BEGIN:VTIMEZONE
TZID:America/Denver
BEGIN:DAYLIGHT
TZOFFSETFROM:-0700
TZOFFSETTO:-0600
TZNAME:MDT
DTSTART:20230312T090000
END:DAYLIGHT
BEGIN:STANDARD
TZOFFSETFROM:-0600
TZOFFSETTO:-0700
TZNAME:MST
DTSTART:20231105T080000
END:STANDARD
BEGIN:DAYLIGHT
TZOFFSETFROM:-0700
TZOFFSETTO:-0600
TZNAME:MDT
DTSTART:20240310T090000
END:DAYLIGHT
BEGIN:STANDARD
TZOFFSETFROM:-0600
TZOFFSETTO:-0700
TZNAME:MST
DTSTART:20241103T080000
END:STANDARD
BEGIN:DAYLIGHT
TZOFFSETFROM:-0700
TZOFFSETTO:-0600
TZNAME:MDT
DTSTART:20250309T090000
END:DAYLIGHT
BEGIN:STANDARD
TZOFFSETFROM:-0600
TZOFFSETTO:-0700
TZNAME:MST
DTSTART:20251102T080000
END:STANDARD
END:VTIMEZONE
BEGIN:VEVENT
DTSTART;TZID=America/Denver:20240801T183000
DTEND;TZID=America/Denver:20240801T203000
DTSTAMP:20260424T063635
CREATED:20240607T204049Z
LAST-MODIFIED:20240607T204049Z
UID:7156-1722537000-1722544200@retromaniatalent.com
SUMMARY:Boogie Machine @ Windsor Summer Concert
DESCRIPTION:Summer Concert Series\n\n\n\n\n\n\n\nBoardwalk Park\nThursdays\, June through August\n6:30 p.m. to 8:30 p.m. \nBring your lawn chair and blankets and lounge at our Thursday night Summer Concert Series. Enjoy live music\, food trucks and fun for the entire family! \n\n\n\n\n\n\n\nShare this:\n				Share on Facebook (Opens in new window)\n				Facebook\n			\n				Share on X (Opens in new window)\n				X\n			\n				Share on Pinterest (Opens in new window)\n				Pinterest\n			\n				Share on LinkedIn (Opens in new window)\n				LinkedIn\n			\n				Share on Reddit (Opens in new window)\n				Reddit\n			\n				Share on Tumblr (Opens in new window)\n				Tumblr\n			\n				Email a link to a friend (Opens in new window)\n				Email\n			\n				Print (Opens in new window)\n				Print\n			Like this:Like Loading...
URL:https://retromaniatalent.com/event/boogie-machine-windsor-summer-concert/
LOCATION:Boardwalk Park\, 100 N Fifth Street\, Windsor\, Colorado
CATEGORIES:Boogie Machine
END:VEVENT
BEGIN:VEVENT
DTSTART;TZID=America/Denver:20240802T160000
DTEND;TZID=America/Denver:20240802T200000
DTSTAMP:20260424T063635
CREATED:20240219T204455Z
LAST-MODIFIED:20240412T012408Z
UID:6926-1722614400-1722628800@retromaniatalent.com
SUMMARY:Boogie Machine @ Alf's Pub - Cheyenne
DESCRIPTION:Share this:\n				Share on Facebook (Opens in new window)\n				Facebook\n			\n				Share on X (Opens in new window)\n				X\n			\n				Share on Pinterest (Opens in new window)\n				Pinterest\n			\n				Share on LinkedIn (Opens in new window)\n				LinkedIn\n			\n				Share on Reddit (Opens in new window)\n				Reddit\n			\n				Share on Tumblr (Opens in new window)\n				Tumblr\n			\n				Email a link to a friend (Opens in new window)\n				Email\n			\n				Print (Opens in new window)\n				Print\n			Like this:Like Loading...
URL:https://retromaniatalent.com/event/boogie-machine-alfs-pub-cheyenne/
LOCATION:Alfs Pub\, 1622 E 19th St\, Cheyenne\, WY\, United States
CATEGORIES:Boogie Machine
END:VEVENT
BEGIN:VEVENT
DTSTART;TZID=America/Denver:20240803T140000
DTEND;TZID=America/Denver:20240803T180000
DTSTAMP:20260424T063635
CREATED:20240412T012524Z
LAST-MODIFIED:20240412T012524Z
UID:7104-1722693600-1722708000@retromaniatalent.com
SUMMARY:Ronnie Raygun @ Alf's Pub - Cheyenne
DESCRIPTION:Share this:\n				Share on Facebook (Opens in new window)\n				Facebook\n			\n				Share on X (Opens in new window)\n				X\n			\n				Share on Pinterest (Opens in new window)\n				Pinterest\n			\n				Share on LinkedIn (Opens in new window)\n				LinkedIn\n			\n				Share on Reddit (Opens in new window)\n				Reddit\n			\n				Share on Tumblr (Opens in new window)\n				Tumblr\n			\n				Email a link to a friend (Opens in new window)\n				Email\n			\n				Print (Opens in new window)\n				Print\n			Like this:Like Loading...
URL:https://retromaniatalent.com/event/ronnie-raygun-alfs-pub-cheyenne/
LOCATION:CO
CATEGORIES:Ronnie Raygun
END:VEVENT
BEGIN:VEVENT
DTSTART;TZID=America/Denver:20240811T130000
DTEND;TZID=America/Denver:20240811T160000
DTSTAMP:20260424T063635
CREATED:20240607T204208Z
LAST-MODIFIED:20240607T204208Z
UID:7159-1723381200-1723392000@retromaniatalent.com
SUMMARY:Oddy & The Siren @ Wild Goose Saloon
DESCRIPTION:Share this:\n				Share on Facebook (Opens in new window)\n				Facebook\n			\n				Share on X (Opens in new window)\n				X\n			\n				Share on Pinterest (Opens in new window)\n				Pinterest\n			\n				Share on LinkedIn (Opens in new window)\n				LinkedIn\n			\n				Share on Reddit (Opens in new window)\n				Reddit\n			\n				Share on Tumblr (Opens in new window)\n				Tumblr\n			\n				Email a link to a friend (Opens in new window)\n				Email\n			\n				Print (Opens in new window)\n				Print\n			Like this:Like Loading...
URL:https://retromaniatalent.com/event/oddy-the-siren-wild-goose-saloon-3/
LOCATION:Wild Goose\, 11160 Pikes Peak Drive\, Parker\, Colorado\, 80134
CATEGORIES:Oddy and the Siren
END:VEVENT
BEGIN:VEVENT
DTSTART;TZID=America/Denver:20240813T170000
DTEND;TZID=America/Denver:20240813T200000
DTSTAMP:20260424T063635
CREATED:20240310T202028Z
LAST-MODIFIED:20240310T202028Z
UID:7031-1723568400-1723579200@retromaniatalent.com
SUMMARY:Jerry lance Bergeson @ Lone Tree Grill Patio
DESCRIPTION:Share this:\n				Share on Facebook (Opens in new window)\n				Facebook\n			\n				Share on X (Opens in new window)\n				X\n			\n				Share on Pinterest (Opens in new window)\n				Pinterest\n			\n				Share on LinkedIn (Opens in new window)\n				LinkedIn\n			\n				Share on Reddit (Opens in new window)\n				Reddit\n			\n				Share on Tumblr (Opens in new window)\n				Tumblr\n			\n				Email a link to a friend (Opens in new window)\n				Email\n			\n				Print (Opens in new window)\n				Print\n			Like this:Like Loading...
URL:https://retromaniatalent.com/event/jerry-lance-bergeson-lone-tree-grill-patio-3/
LOCATION:Lone Tree Grill\, 9808 Sunningdale Blvd.\, Lone Tree\, CO
CATEGORIES:Jerry Lance Bergeson
END:VEVENT
BEGIN:VEVENT
DTSTART;VALUE=DATE:20240817
DTEND;VALUE=DATE:20240819
DTSTAMP:20260424T063635
CREATED:20240219T204552Z
LAST-MODIFIED:20240219T204552Z
UID:6928-1723863600-1723949999@retromaniatalent.com
SUMMARY:Boogie Machine and Ronnie Raygun @ Private Funktion - Cheyenne
DESCRIPTION:Share this:\n				Share on Facebook (Opens in new window)\n				Facebook\n			\n				Share on X (Opens in new window)\n				X\n			\n				Share on Pinterest (Opens in new window)\n				Pinterest\n			\n				Share on LinkedIn (Opens in new window)\n				LinkedIn\n			\n				Share on Reddit (Opens in new window)\n				Reddit\n			\n				Share on Tumblr (Opens in new window)\n				Tumblr\n			\n				Email a link to a friend (Opens in new window)\n				Email\n			\n				Print (Opens in new window)\n				Print\n			Like this:Like Loading...
URL:https://retromaniatalent.com/event/boogie-machine-and-ronnie-raygun-private-funktion-cheyenne/
LOCATION:CO
CATEGORIES:Boogie Machine,Ronnie Raygun
END:VEVENT
BEGIN:VEVENT
DTSTART;VALUE=DATE:20240823
DTEND;VALUE=DATE:20240825
DTSTAMP:20260424T063635
CREATED:20240219T204711Z
LAST-MODIFIED:20240219T204711Z
UID:6930-1724382000-1724468399@retromaniatalent.com
SUMMARY:Ronnie Raygun @ Private Funktion - Missouri
DESCRIPTION:Share this:\n				Share on Facebook (Opens in new window)\n				Facebook\n			\n				Share on X (Opens in new window)\n				X\n			\n				Share on Pinterest (Opens in new window)\n				Pinterest\n			\n				Share on LinkedIn (Opens in new window)\n				LinkedIn\n			\n				Share on Reddit (Opens in new window)\n				Reddit\n			\n				Share on Tumblr (Opens in new window)\n				Tumblr\n			\n				Email a link to a friend (Opens in new window)\n				Email\n			\n				Print (Opens in new window)\n				Print\n			Like this:Like Loading...
URL:https://retromaniatalent.com/event/ronnie-raygun-private-funktion-missouri/
LOCATION:CO
CATEGORIES:Ronnie Raygun
END:VEVENT
BEGIN:VEVENT
DTSTART;TZID=America/Denver:20240831T173000
DTEND;TZID=America/Denver:20240831T190000
DTSTAMP:20260424T063635
CREATED:20240828T212158Z
LAST-MODIFIED:20240828T212158Z
UID:7307-1725125400-1725130800@retromaniatalent.com
SUMMARY:Ronnie Raygun @ Copper Mountain
DESCRIPTION:Enjoy Labor Day weekend soaking up the last days of summer in the High Country with free live music in Eagle’s Landing on Saturday and Sunday! Embark on a nostalgic voyage through the smooth seas of music during Yacht Rock Mountain Rewind in Center Village. \nShare this:\n				Share on Facebook (Opens in new window)\n				Facebook\n			\n				Share on X (Opens in new window)\n				X\n			\n				Share on Pinterest (Opens in new window)\n				Pinterest\n			\n				Share on LinkedIn (Opens in new window)\n				LinkedIn\n			\n				Share on Reddit (Opens in new window)\n				Reddit\n			\n				Share on Tumblr (Opens in new window)\n				Tumblr\n			\n				Email a link to a friend (Opens in new window)\n				Email\n			\n				Print (Opens in new window)\n				Print\n			Like this:Like Loading...
URL:https://retromaniatalent.com/event/ronnie-raygun-copper-mountain/
LOCATION:CO
CATEGORIES:Ronnie Raygun
END:VEVENT
END:VCALENDAR