BEGIN:VCALENDAR
VERSION:2.0
PRODID:-//RetroMania Talent - ECPv6.15.20//NONSGML v1.0//EN
CALSCALE:GREGORIAN
METHOD:PUBLISH
X-ORIGINAL-URL:https://retromaniatalent.com
X-WR-CALDESC:Events for RetroMania Talent
REFRESH-INTERVAL;VALUE=DURATION:PT1H
X-Robots-Tag:noindex
X-PUBLISHED-TTL:PT1H
BEGIN:VTIMEZONE
TZID:America/Denver
BEGIN:DAYLIGHT
TZOFFSETFROM:-0700
TZOFFSETTO:-0600
TZNAME:MDT
DTSTART:20230312T090000
END:DAYLIGHT
BEGIN:STANDARD
TZOFFSETFROM:-0600
TZOFFSETTO:-0700
TZNAME:MST
DTSTART:20231105T080000
END:STANDARD
BEGIN:DAYLIGHT
TZOFFSETFROM:-0700
TZOFFSETTO:-0600
TZNAME:MDT
DTSTART:20240310T090000
END:DAYLIGHT
BEGIN:STANDARD
TZOFFSETFROM:-0600
TZOFFSETTO:-0700
TZNAME:MST
DTSTART:20241103T080000
END:STANDARD
BEGIN:DAYLIGHT
TZOFFSETFROM:-0700
TZOFFSETTO:-0600
TZNAME:MDT
DTSTART:20250309T090000
END:DAYLIGHT
BEGIN:STANDARD
TZOFFSETFROM:-0600
TZOFFSETTO:-0700
TZNAME:MST
DTSTART:20251102T080000
END:STANDARD
END:VTIMEZONE
BEGIN:VEVENT
DTSTART;TZID=America/Denver:20241102T200000
DTEND;TZID=America/Denver:20241102T230000
DTSTAMP:20260424T025501
CREATED:20240219T204921Z
LAST-MODIFIED:20240828T215115Z
UID:6934-1730577600-1730588400@retromaniatalent.com
SUMMARY:Boogie Machine @ Pindustry
DESCRIPTION:Share this:\n				Share on Facebook (Opens in new window)\n				Facebook\n			\n				Share on X (Opens in new window)\n				X\n			\n				Share on Pinterest (Opens in new window)\n				Pinterest\n			\n				Share on LinkedIn (Opens in new window)\n				LinkedIn\n			\n				Share on Reddit (Opens in new window)\n				Reddit\n			\n				Share on Tumblr (Opens in new window)\n				Tumblr\n			\n				Email a link to a friend (Opens in new window)\n				Email\n			\n				Print (Opens in new window)\n				Print\n			Like this:Like Loading...
URL:https://retromaniatalent.com/event/boogie-machine-pindustry-8/
LOCATION:Pindustry\, 7939 E Arapahoe Road\, Greenwood Village\, CO\, 80112
CATEGORIES:Boogie Machine
END:VEVENT
BEGIN:VEVENT
DTSTART;TZID=America/Denver:20241120T173000
DTEND;TZID=America/Denver:20241120T203000
DTSTAMP:20260424T025501
CREATED:20240219T205026Z
LAST-MODIFIED:20240219T205026Z
UID:6936-1732123800-1732134600@retromaniatalent.com
SUMMARY:Jerry Lance Bergeson @ Colorado Tap House
DESCRIPTION:Share this:\n				Share on Facebook (Opens in new window)\n				Facebook\n			\n				Share on X (Opens in new window)\n				X\n			\n				Share on Pinterest (Opens in new window)\n				Pinterest\n			\n				Share on LinkedIn (Opens in new window)\n				LinkedIn\n			\n				Share on Reddit (Opens in new window)\n				Reddit\n			\n				Share on Tumblr (Opens in new window)\n				Tumblr\n			\n				Email a link to a friend (Opens in new window)\n				Email\n			\n				Print (Opens in new window)\n				Print\n			Like this:Like Loading...
URL:https://retromaniatalent.com/event/jerry-lance-bergeson-colorado-tap-house-7/
LOCATION:Colorado Tap House\, 14982 West 69th Ave.\, Arvada\, CO
CATEGORIES:Jerry Lance Bergeson
END:VEVENT
BEGIN:VEVENT
DTSTART;TZID=America/Denver:20241122T200000
DTEND;TZID=America/Denver:20241122T200000
DTSTAMP:20260424T025501
CREATED:20240607T210615Z
LAST-MODIFIED:20241109T200938Z
UID:7179-1732305600-1732305600@retromaniatalent.com
SUMMARY:Boogie Machine @ Greenfields
DESCRIPTION:Share this:\n				Share on Facebook (Opens in new window)\n				Facebook\n			\n				Share on X (Opens in new window)\n				X\n			\n				Share on Pinterest (Opens in new window)\n				Pinterest\n			\n				Share on LinkedIn (Opens in new window)\n				LinkedIn\n			\n				Share on Reddit (Opens in new window)\n				Reddit\n			\n				Share on Tumblr (Opens in new window)\n				Tumblr\n			\n				Email a link to a friend (Opens in new window)\n				Email\n			\n				Print (Opens in new window)\n				Print\n			Like this:Like Loading...
URL:https://retromaniatalent.com/event/boogie-machine-greenfields-23/
LOCATION:Greenfields\, 3355 S. Yarrow St.\, Lakewood\, CO
CATEGORIES:Boogie Machine
END:VEVENT
BEGIN:VEVENT
DTSTART;TZID=America/Denver:20241123T200000
DTEND;TZID=America/Denver:20241123T200000
DTSTAMP:20260424T025501
CREATED:20240607T210526Z
LAST-MODIFIED:20241109T200909Z
UID:7177-1732392000-1732392000@retromaniatalent.com
SUMMARY:Ronnie Raygun @ Greenfields
DESCRIPTION:Share this:\n				Share on Facebook (Opens in new window)\n				Facebook\n			\n				Share on X (Opens in new window)\n				X\n			\n				Share on Pinterest (Opens in new window)\n				Pinterest\n			\n				Share on LinkedIn (Opens in new window)\n				LinkedIn\n			\n				Share on Reddit (Opens in new window)\n				Reddit\n			\n				Share on Tumblr (Opens in new window)\n				Tumblr\n			\n				Email a link to a friend (Opens in new window)\n				Email\n			\n				Print (Opens in new window)\n				Print\n			Like this:Like Loading...
URL:https://retromaniatalent.com/event/ronnie-raygun-greenfields-12/
LOCATION:Greenfields\, 3355 S. Yarrow St.\, Lakewood\, CO
CATEGORIES:Ronnie Raygun
END:VEVENT
END:VCALENDAR