BEGIN:VCALENDAR
VERSION:2.0
PRODID:-//RetroMania Talent - ECPv6.15.20//NONSGML v1.0//EN
CALSCALE:GREGORIAN
METHOD:PUBLISH
X-WR-CALNAME:RetroMania Talent
X-ORIGINAL-URL:https://retromaniatalent.com
X-WR-CALDESC:Events for RetroMania Talent
REFRESH-INTERVAL;VALUE=DURATION:PT1H
X-Robots-Tag:noindex
X-PUBLISHED-TTL:PT1H
BEGIN:VTIMEZONE
TZID:America/Denver
BEGIN:DAYLIGHT
TZOFFSETFROM:-0700
TZOFFSETTO:-0600
TZNAME:MDT
DTSTART:20240310T090000
END:DAYLIGHT
BEGIN:STANDARD
TZOFFSETFROM:-0600
TZOFFSETTO:-0700
TZNAME:MST
DTSTART:20241103T080000
END:STANDARD
BEGIN:DAYLIGHT
TZOFFSETFROM:-0700
TZOFFSETTO:-0600
TZNAME:MDT
DTSTART:20250309T090000
END:DAYLIGHT
BEGIN:STANDARD
TZOFFSETFROM:-0600
TZOFFSETTO:-0700
TZNAME:MST
DTSTART:20251102T080000
END:STANDARD
BEGIN:DAYLIGHT
TZOFFSETFROM:-0700
TZOFFSETTO:-0600
TZNAME:MDT
DTSTART:20260308T090000
END:DAYLIGHT
BEGIN:STANDARD
TZOFFSETFROM:-0600
TZOFFSETTO:-0700
TZNAME:MST
DTSTART:20261101T080000
END:STANDARD
END:VTIMEZONE
BEGIN:VEVENT
DTSTART;VALUE=DATE:20250701
DTEND;VALUE=DATE:20250703
DTSTAMP:20260423T180811
CREATED:20250225T225408Z
LAST-MODIFIED:20250225T225408Z
UID:7549-1751338800-1751425199@retromaniatalent.com
SUMMARY:Boogie Machine @ Private Funktion - Gunnison
DESCRIPTION:Share this:\n				Share on Facebook (Opens in new window)\n				Facebook\n			\n				Share on X (Opens in new window)\n				X\n			\n				Share on Pinterest (Opens in new window)\n				Pinterest\n			\n				Share on LinkedIn (Opens in new window)\n				LinkedIn\n			\n				Share on Reddit (Opens in new window)\n				Reddit\n			\n				Share on Tumblr (Opens in new window)\n				Tumblr\n			\n				Email a link to a friend (Opens in new window)\n				Email\n			\n				Print (Opens in new window)\n				Print\n			Like this:Like Loading...
URL:https://retromaniatalent.com/event/boogie-machine-private-funktion-gunnison-2/
LOCATION:CO
CATEGORIES:Boogie Machine
END:VEVENT
BEGIN:VEVENT
DTSTART;VALUE=DATE:20250703
DTEND;VALUE=DATE:20250705
DTSTAMP:20260423T180811
CREATED:20250427T193355Z
LAST-MODIFIED:20250427T193355Z
UID:7715-1751511600-1751597999@retromaniatalent.com
SUMMARY:Ronnie Raygun @ Private Funktion
DESCRIPTION:Share this:\n				Share on Facebook (Opens in new window)\n				Facebook\n			\n				Share on X (Opens in new window)\n				X\n			\n				Share on Pinterest (Opens in new window)\n				Pinterest\n			\n				Share on LinkedIn (Opens in new window)\n				LinkedIn\n			\n				Share on Reddit (Opens in new window)\n				Reddit\n			\n				Share on Tumblr (Opens in new window)\n				Tumblr\n			\n				Email a link to a friend (Opens in new window)\n				Email\n			\n				Print (Opens in new window)\n				Print\n			Like this:Like Loading...
URL:https://retromaniatalent.com/event/ronnie-raygun-private-funktion-7/
LOCATION:CO
CATEGORIES:Ronnie Raygun
END:VEVENT
BEGIN:VEVENT
DTSTART;TZID=America/Denver:20250704T173000
DTEND;TZID=America/Denver:20250704T194500
DTSTAMP:20260423T180811
CREATED:20250512T013903Z
LAST-MODIFIED:20250512T013903Z
UID:7776-1751650200-1751658300@retromaniatalent.com
SUMMARY:Boogie Machine @ Lions Park - Golden
DESCRIPTION:Come and enjoy a day of music\, kids entertainment\, food\, beverages and lots of community spirit! \nShare this:\n				Share on Facebook (Opens in new window)\n				Facebook\n			\n				Share on X (Opens in new window)\n				X\n			\n				Share on Pinterest (Opens in new window)\n				Pinterest\n			\n				Share on LinkedIn (Opens in new window)\n				LinkedIn\n			\n				Share on Reddit (Opens in new window)\n				Reddit\n			\n				Share on Tumblr (Opens in new window)\n				Tumblr\n			\n				Email a link to a friend (Opens in new window)\n				Email\n			\n				Print (Opens in new window)\n				Print\n			Like this:Like Loading...
URL:https://retromaniatalent.com/event/boogie-machine-lions-park-golden/
LOCATION:Lions Park\, 1300 10th Street\, Golden\, Colorado
CATEGORIES:Boogie Machine
END:VEVENT
BEGIN:VEVENT
DTSTART;TZID=America/Denver:20250709T180000
DTEND;TZID=America/Denver:20250709T200000
DTSTAMP:20260423T180811
CREATED:20250225T225846Z
LAST-MODIFIED:20250225T230050Z
UID:7551-1752084000-1752091200@retromaniatalent.com
SUMMARY:Boogie Machine @ Pirates Cove Waterpark - Adult Night
DESCRIPTION:It’s time to leave the young buccaneers at home! Join us after hours for Adult Nights at Pirates Cove and swim the night away with some live music! Must be 18+ to attend. \n$12 Per Person \nTickets will be available for purchase online starting one week prior to the event at 8 a.m. In-person tickets will be available at the door starting at 5:30 p.m. on the day of the event. \nPurchase Tickets Online – Link will be available one week prior to the event at 8 a.m. \nCancelations Due to Weather:\nIn the event of inclement weather preventing the Adult Night from happening\, NO REFUNDS will be given. All ticket sales are final. \n  \n  \nShare this:\n				Share on Facebook (Opens in new window)\n				Facebook\n			\n				Share on X (Opens in new window)\n				X\n			\n				Share on Pinterest (Opens in new window)\n				Pinterest\n			\n				Share on LinkedIn (Opens in new window)\n				LinkedIn\n			\n				Share on Reddit (Opens in new window)\n				Reddit\n			\n				Share on Tumblr (Opens in new window)\n				Tumblr\n			\n				Email a link to a friend (Opens in new window)\n				Email\n			\n				Print (Opens in new window)\n				Print\n			Like this:Like Loading...
URL:https://retromaniatalent.com/event/boogie-machine-pirates-cove-adult-night/
LOCATION:Pirates Cove\, 1225 W Belleview\, Englewood\, Colorado
CATEGORIES:Boogie Machine
END:VEVENT
BEGIN:VEVENT
DTSTART;VALUE=DATE:20250712
DTEND;VALUE=DATE:20250714
DTSTAMP:20260423T180811
CREATED:20250427T194145Z
LAST-MODIFIED:20250427T194145Z
UID:7717-1752289200-1752375599@retromaniatalent.com
SUMMARY:Ronnie Raygun @ Private Funktion
DESCRIPTION:Share this:\n				Share on Facebook (Opens in new window)\n				Facebook\n			\n				Share on X (Opens in new window)\n				X\n			\n				Share on Pinterest (Opens in new window)\n				Pinterest\n			\n				Share on LinkedIn (Opens in new window)\n				LinkedIn\n			\n				Share on Reddit (Opens in new window)\n				Reddit\n			\n				Share on Tumblr (Opens in new window)\n				Tumblr\n			\n				Email a link to a friend (Opens in new window)\n				Email\n			\n				Print (Opens in new window)\n				Print\n			Like this:Like Loading...
URL:https://retromaniatalent.com/event/ronnie-raygun-private-funktion-8/
LOCATION:CO
CATEGORIES:Ronnie Raygun
END:VEVENT
BEGIN:VEVENT
DTSTART;TZID=America/Denver:20250716T180000
DTEND;TZID=America/Denver:20250716T200000
DTSTAMP:20260423T180811
CREATED:20250225T230329Z
LAST-MODIFIED:20250225T230329Z
UID:7556-1752688800-1752696000@retromaniatalent.com
SUMMARY:Ronnie Raygun @ Pirates Cove Waterpark - Adults Night
DESCRIPTION:It’s time to leave the young buccaneers at home! Join us after hours for Adult Nights at Pirates Cove and swim the night away with some live music! Must be 18+ to attend. \n$12 Per Person \nTickets will be available for purchase online starting one week prior to the event at 8 a.m. In-person tickets will be available at the door starting at 5:30 p.m. on the day of the event. \nPurchase Tickets Online – Link will be available one week prior to the event at 8 a.m. \nCancelations Due to Weather:\nIn the event of inclement weather preventing the Adult Night from happening\, NO REFUNDS will be given. All ticket sales are final. \n  \nShare this:\n				Share on Facebook (Opens in new window)\n				Facebook\n			\n				Share on X (Opens in new window)\n				X\n			\n				Share on Pinterest (Opens in new window)\n				Pinterest\n			\n				Share on LinkedIn (Opens in new window)\n				LinkedIn\n			\n				Share on Reddit (Opens in new window)\n				Reddit\n			\n				Share on Tumblr (Opens in new window)\n				Tumblr\n			\n				Email a link to a friend (Opens in new window)\n				Email\n			\n				Print (Opens in new window)\n				Print\n			Like this:Like Loading...
URL:https://retromaniatalent.com/event/ronnie-raygun-pirates-cove-waterpark-adults-night/
LOCATION:Pirates Cove\, 1225 W Belleview\, Englewood\, Colorado
CATEGORIES:Ronnie Raygun
END:VEVENT
BEGIN:VEVENT
DTSTART;TZID=America/Denver:20250717T180000
DTEND;TZID=America/Denver:20250717T200000
DTSTAMP:20260423T180811
CREATED:20250512T014120Z
LAST-MODIFIED:20250512T014120Z
UID:7779-1752775200-1752782400@retromaniatalent.com
SUMMARY:Ronnie Raygun @ Lionshead Live - Vail
DESCRIPTION:Centrally located in the heart of Lionshead Village at the base of Vail Mountain\, this free music series aims to sustain the musical arts and entertainment vitality of the Vail Valley. \nShare this:\n				Share on Facebook (Opens in new window)\n				Facebook\n			\n				Share on X (Opens in new window)\n				X\n			\n				Share on Pinterest (Opens in new window)\n				Pinterest\n			\n				Share on LinkedIn (Opens in new window)\n				LinkedIn\n			\n				Share on Reddit (Opens in new window)\n				Reddit\n			\n				Share on Tumblr (Opens in new window)\n				Tumblr\n			\n				Email a link to a friend (Opens in new window)\n				Email\n			\n				Print (Opens in new window)\n				Print\n			Like this:Like Loading...
URL:https://retromaniatalent.com/event/ronnie-raygun-lionshead-live-vail/
LOCATION:CO
CATEGORIES:Ronnie Raygun
END:VEVENT
BEGIN:VEVENT
DTSTART;VALUE=DATE:20250725
DTEND;VALUE=DATE:20250727
DTSTAMP:20260423T180811
CREATED:20250204T233027Z
LAST-MODIFIED:20250204T233027Z
UID:7524-1753412400-1753498799@retromaniatalent.com
SUMMARY:Boogie Machine @ Private Funktion - Denver
DESCRIPTION:Share this:\n				Share on Facebook (Opens in new window)\n				Facebook\n			\n				Share on X (Opens in new window)\n				X\n			\n				Share on Pinterest (Opens in new window)\n				Pinterest\n			\n				Share on LinkedIn (Opens in new window)\n				LinkedIn\n			\n				Share on Reddit (Opens in new window)\n				Reddit\n			\n				Share on Tumblr (Opens in new window)\n				Tumblr\n			\n				Email a link to a friend (Opens in new window)\n				Email\n			\n				Print (Opens in new window)\n				Print\n			Like this:Like Loading...
URL:https://retromaniatalent.com/event/boogie-machine-private-funktion-denver-26/
LOCATION:CO
CATEGORIES:Boogie Machine
END:VEVENT
END:VCALENDAR