BEGIN:VCALENDAR
VERSION:2.0
PRODID:-//RetroMania Talent - ECPv6.15.20//NONSGML v1.0//EN
CALSCALE:GREGORIAN
METHOD:PUBLISH
X-ORIGINAL-URL:https://retromaniatalent.com
X-WR-CALDESC:Events for RetroMania Talent
REFRESH-INTERVAL;VALUE=DURATION:PT1H
X-Robots-Tag:noindex
X-PUBLISHED-TTL:PT1H
BEGIN:VTIMEZONE
TZID:America/Denver
BEGIN:DAYLIGHT
TZOFFSETFROM:-0700
TZOFFSETTO:-0600
TZNAME:MDT
DTSTART:20240310T090000
END:DAYLIGHT
BEGIN:STANDARD
TZOFFSETFROM:-0600
TZOFFSETTO:-0700
TZNAME:MST
DTSTART:20241103T080000
END:STANDARD
BEGIN:DAYLIGHT
TZOFFSETFROM:-0700
TZOFFSETTO:-0600
TZNAME:MDT
DTSTART:20250309T090000
END:DAYLIGHT
BEGIN:STANDARD
TZOFFSETFROM:-0600
TZOFFSETTO:-0700
TZNAME:MST
DTSTART:20251102T080000
END:STANDARD
BEGIN:DAYLIGHT
TZOFFSETFROM:-0700
TZOFFSETTO:-0600
TZNAME:MDT
DTSTART:20260308T090000
END:DAYLIGHT
BEGIN:STANDARD
TZOFFSETFROM:-0600
TZOFFSETTO:-0700
TZNAME:MST
DTSTART:20261101T080000
END:STANDARD
END:VTIMEZONE
BEGIN:VEVENT
DTSTART;TZID=America/Denver:20250905T190000
DTEND;TZID=America/Denver:20250905T220000
DTSTAMP:20260423T154854
CREATED:20250708T014437Z
LAST-MODIFIED:20250708T014459Z
UID:8000-1757098800-1757109600@retromaniatalent.com
SUMMARY:Boogie Machine @ The Werks
DESCRIPTION:Great Food\, Great Drinks\, Great People! \nShare this:\n				Share on Facebook (Opens in new window)\n				Facebook\n			\n				Share on X (Opens in new window)\n				X\n			\n				Share on Pinterest (Opens in new window)\n				Pinterest\n			\n				Share on LinkedIn (Opens in new window)\n				LinkedIn\n			\n				Share on Reddit (Opens in new window)\n				Reddit\n			\n				Share on Tumblr (Opens in new window)\n				Tumblr\n			\n				Email a link to a friend (Opens in new window)\n				Email\n			\n				Print (Opens in new window)\n				Print\n			Like this:Like Loading...
URL:https://retromaniatalent.com/event/boogie-machine-the-werks-4/
LOCATION:The Werks – Wheat Ridge\, 2625 Kipling Street\, Wheat Ridge\, Colorado
CATEGORIES:Boogie Machine
END:VEVENT
BEGIN:VEVENT
DTSTART;VALUE=DATE:20250906
DTEND;VALUE=DATE:20250908
DTSTAMP:20260423T154854
CREATED:20250225T231023Z
LAST-MODIFIED:20250225T231023Z
UID:7563-1757127600-1757213999@retromaniatalent.com
SUMMARY:Boogie Machine @ Private Funktion
DESCRIPTION:Share this:\n				Share on Facebook (Opens in new window)\n				Facebook\n			\n				Share on X (Opens in new window)\n				X\n			\n				Share on Pinterest (Opens in new window)\n				Pinterest\n			\n				Share on LinkedIn (Opens in new window)\n				LinkedIn\n			\n				Share on Reddit (Opens in new window)\n				Reddit\n			\n				Share on Tumblr (Opens in new window)\n				Tumblr\n			\n				Email a link to a friend (Opens in new window)\n				Email\n			\n				Print (Opens in new window)\n				Print\n			Like this:Like Loading...
URL:https://retromaniatalent.com/event/boogie-machine-private-funktion-27/
LOCATION:CO
CATEGORIES:Boogie Machine
END:VEVENT
BEGIN:VEVENT
DTSTART;TZID=America/Denver:20250912T180000
DTEND;TZID=America/Denver:20250912T200000
DTSTAMP:20260423T154854
CREATED:20250730T212311Z
LAST-MODIFIED:20250730T212311Z
UID:8091-1757700000-1757707200@retromaniatalent.com
SUMMARY:Boogie Machine @ Music in the Burbs
DESCRIPTION:Event starts at 5:00pm\nFood Trucks:\nBring your lawn chairs or blankets\nNo outside food or alcohol\nThe BARBOX at Aspen Grove will be serving beer\, wine\, canned cocktails\, and non-alcoholic beverages\nBe prepared for warm weather (sunscreen\, sunglasses\, water)\n\nShare this:\n				Share on Facebook (Opens in new window)\n				Facebook\n			\n				Share on X (Opens in new window)\n				X\n			\n				Share on Pinterest (Opens in new window)\n				Pinterest\n			\n				Share on LinkedIn (Opens in new window)\n				LinkedIn\n			\n				Share on Reddit (Opens in new window)\n				Reddit\n			\n				Share on Tumblr (Opens in new window)\n				Tumblr\n			\n				Email a link to a friend (Opens in new window)\n				Email\n			\n				Print (Opens in new window)\n				Print\n			Like this:Like Loading...
URL:https://retromaniatalent.com/event/boogie-machine-music-in-the-burbs/
LOCATION:The Barbox at Aspen Grove\, 7301 S Santa Fe Drive\, Littleton\, Colorado
CATEGORIES:Boogie Machine
END:VEVENT
BEGIN:VEVENT
DTSTART;TZID=America/Denver:20250919T190000
DTEND;TZID=America/Denver:20250919T230000
DTSTAMP:20260423T154854
CREATED:20250512T021519Z
LAST-MODIFIED:20250730T212602Z
UID:7790-1758308400-1758322800@retromaniatalent.com
SUMMARY:Boogie Machine @ Warehouse 25 Sixty Five
DESCRIPTION:TICKETS:  https://www.warehouse2565.com/calendar/2025/9/19/boogie-machine \n  \nShare this:\n				Share on Facebook (Opens in new window)\n				Facebook\n			\n				Share on X (Opens in new window)\n				X\n			\n				Share on Pinterest (Opens in new window)\n				Pinterest\n			\n				Share on LinkedIn (Opens in new window)\n				LinkedIn\n			\n				Share on Reddit (Opens in new window)\n				Reddit\n			\n				Share on Tumblr (Opens in new window)\n				Tumblr\n			\n				Email a link to a friend (Opens in new window)\n				Email\n			\n				Print (Opens in new window)\n				Print\n			Like this:Like Loading...
URL:https://retromaniatalent.com/event/boogie-machine-warehouse-25-sixty-five/
LOCATION:Warehouse 25 Sixty Five\, 2565 American Way\, Grand Junction\, Colorado
CATEGORIES:Boogie Machine
END:VEVENT
BEGIN:VEVENT
DTSTART;TZID=America/Denver:20250920T133000
DTEND;TZID=America/Denver:20250920T163000
DTSTAMP:20260423T154854
CREATED:20250512T022342Z
LAST-MODIFIED:20250512T022644Z
UID:7793-1758375000-1758385800@retromaniatalent.com
SUMMARY:Ronnie Raygun @ Colorado Mountain Winefest
DESCRIPTION:Get your tickets for Colorado Winefest Now! \n  \nShare this:\n				Share on Facebook (Opens in new window)\n				Facebook\n			\n				Share on X (Opens in new window)\n				X\n			\n				Share on Pinterest (Opens in new window)\n				Pinterest\n			\n				Share on LinkedIn (Opens in new window)\n				LinkedIn\n			\n				Share on Reddit (Opens in new window)\n				Reddit\n			\n				Share on Tumblr (Opens in new window)\n				Tumblr\n			\n				Email a link to a friend (Opens in new window)\n				Email\n			\n				Print (Opens in new window)\n				Print\n			Like this:Like Loading...
URL:https://retromaniatalent.com/event/ronnie-raygun-colorado-mountain-winefest/
LOCATION:Riverbend Park\, Palisade\, CO\, United States
CATEGORIES:Ronnie Raygun
END:VEVENT
BEGIN:VEVENT
DTSTART;TZID=America/Denver:20250927T160000
DTEND;TZID=America/Denver:20250927T190000
DTSTAMP:20260423T154854
CREATED:20250927T190519Z
LAST-MODIFIED:20250927T190519Z
UID:8269-1758988800-1758999600@retromaniatalent.com
SUMMARY:Ronnie Raygun @ Scruffy Murphy's
DESCRIPTION:Share this:\n				Share on Facebook (Opens in new window)\n				Facebook\n			\n				Share on X (Opens in new window)\n				X\n			\n				Share on Pinterest (Opens in new window)\n				Pinterest\n			\n				Share on LinkedIn (Opens in new window)\n				LinkedIn\n			\n				Share on Reddit (Opens in new window)\n				Reddit\n			\n				Share on Tumblr (Opens in new window)\n				Tumblr\n			\n				Email a link to a friend (Opens in new window)\n				Email\n			\n				Print (Opens in new window)\n				Print\n			Like this:Like Loading...
URL:https://retromaniatalent.com/event/ronnie-raygun-scruffy-murphys/
LOCATION:Scruffy Murphy’s\, 2030 Larimer St.\, Denver\, Colorado
CATEGORIES:Ronnie Raygun
END:VEVENT
END:VCALENDAR