BEGIN:VCALENDAR
VERSION:2.0
PRODID:-//RetroMania Talent - ECPv6.15.20//NONSGML v1.0//EN
CALSCALE:GREGORIAN
METHOD:PUBLISH
X-WR-CALNAME:RetroMania Talent
X-ORIGINAL-URL:https://retromaniatalent.com
X-WR-CALDESC:Events for RetroMania Talent
REFRESH-INTERVAL;VALUE=DURATION:PT1H
X-Robots-Tag:noindex
X-PUBLISHED-TTL:PT1H
BEGIN:VTIMEZONE
TZID:America/Denver
BEGIN:DAYLIGHT
TZOFFSETFROM:-0700
TZOFFSETTO:-0600
TZNAME:MDT
DTSTART:20240310T090000
END:DAYLIGHT
BEGIN:STANDARD
TZOFFSETFROM:-0600
TZOFFSETTO:-0700
TZNAME:MST
DTSTART:20241103T080000
END:STANDARD
BEGIN:DAYLIGHT
TZOFFSETFROM:-0700
TZOFFSETTO:-0600
TZNAME:MDT
DTSTART:20250309T090000
END:DAYLIGHT
BEGIN:STANDARD
TZOFFSETFROM:-0600
TZOFFSETTO:-0700
TZNAME:MST
DTSTART:20251102T080000
END:STANDARD
BEGIN:DAYLIGHT
TZOFFSETFROM:-0700
TZOFFSETTO:-0600
TZNAME:MDT
DTSTART:20260308T090000
END:DAYLIGHT
BEGIN:STANDARD
TZOFFSETFROM:-0600
TZOFFSETTO:-0700
TZNAME:MST
DTSTART:20261101T080000
END:STANDARD
END:VTIMEZONE
BEGIN:VEVENT
DTSTART;TZID=America/Denver:20251210T170000
DTEND;TZID=America/Denver:20251210T203000
DTSTAMP:20260423T123937
CREATED:20250102T035637Z
LAST-MODIFIED:20251210T205659Z
UID:7469-1765386000-1765398600@retromaniatalent.com
SUMMARY:JLB @ Colorado Tap House
DESCRIPTION:Share this:\n				Share on Facebook (Opens in new window)\n				Facebook\n			\n				Share on X (Opens in new window)\n				X\n			\n				Share on Pinterest (Opens in new window)\n				Pinterest\n			\n				Share on LinkedIn (Opens in new window)\n				LinkedIn\n			\n				Share on Reddit (Opens in new window)\n				Reddit\n			\n				Share on Tumblr (Opens in new window)\n				Tumblr\n			\n				Email a link to a friend (Opens in new window)\n				Email\n			\n				Print (Opens in new window)\n				Print\n			Like this:Like Loading...
URL:https://retromaniatalent.com/event/jlb-colorado-tap-house-7/
LOCATION:Colorado Tap House\, 14982 West 69th Ave.\, Arvada\, CO
CATEGORIES:Jerry Lance Bergeson
END:VEVENT
BEGIN:VEVENT
DTSTART;TZID=America/Denver:20251211T183000
DTEND;TZID=America/Denver:20251211T213000
DTSTAMP:20260423T123937
CREATED:20250730T213452Z
LAST-MODIFIED:20250730T213452Z
UID:8095-1765477800-1765488600@retromaniatalent.com
SUMMARY:Boogie Machine @ Christkindle Market
DESCRIPTION:The Denver Christkindlmarket is an authentic\, German-style holiday market\, which is host to local and European craft and food vendors\, and tons of magical entertainment for everyone to enjoy. The Denver Christkindlmarket is a must-see (and must-taste!) holiday experience. Free and open to the public. \nShare this:\n				Share on Facebook (Opens in new window)\n				Facebook\n			\n				Share on X (Opens in new window)\n				X\n			\n				Share on Pinterest (Opens in new window)\n				Pinterest\n			\n				Share on LinkedIn (Opens in new window)\n				LinkedIn\n			\n				Share on Reddit (Opens in new window)\n				Reddit\n			\n				Share on Tumblr (Opens in new window)\n				Tumblr\n			\n				Email a link to a friend (Opens in new window)\n				Email\n			\n				Print (Opens in new window)\n				Print\n			Like this:Like Loading...
URL:https://retromaniatalent.com/event/boogie-machine-christkindle-market/
LOCATION:Auraria Campus\, Tivoli Quad 1000 Larimer St.\, Denver\, Colorado
CATEGORIES:Boogie Machine
END:VEVENT
BEGIN:VEVENT
DTSTART;VALUE=DATE:20251212
DTEND;VALUE=DATE:20251214
DTSTAMP:20260423T123937
CREATED:20250927T190944Z
LAST-MODIFIED:20250927T190944Z
UID:8273-1765508400-1765594799@retromaniatalent.com
SUMMARY:Boogie Machine @ Private Funktion - Cheyenne
DESCRIPTION:Share this:\n				Share on Facebook (Opens in new window)\n				Facebook\n			\n				Share on X (Opens in new window)\n				X\n			\n				Share on Pinterest (Opens in new window)\n				Pinterest\n			\n				Share on LinkedIn (Opens in new window)\n				LinkedIn\n			\n				Share on Reddit (Opens in new window)\n				Reddit\n			\n				Share on Tumblr (Opens in new window)\n				Tumblr\n			\n				Email a link to a friend (Opens in new window)\n				Email\n			\n				Print (Opens in new window)\n				Print\n			Like this:Like Loading...
URL:https://retromaniatalent.com/event/boogie-machine-private-funktion-cheyenne-11/
LOCATION:CO
CATEGORIES:Boogie Machine
END:VEVENT
BEGIN:VEVENT
DTSTART;VALUE=DATE:20251213
DTEND;VALUE=DATE:20251215
DTSTAMP:20260423T123937
CREATED:20251210T201903Z
LAST-MODIFIED:20251210T205454Z
UID:8500-1765594800-1765681199@retromaniatalent.com
SUMMARY:Ronnie Raygun @ Private Funktion
DESCRIPTION:Share this:\n				Share on Facebook (Opens in new window)\n				Facebook\n			\n				Share on X (Opens in new window)\n				X\n			\n				Share on Pinterest (Opens in new window)\n				Pinterest\n			\n				Share on LinkedIn (Opens in new window)\n				LinkedIn\n			\n				Share on Reddit (Opens in new window)\n				Reddit\n			\n				Share on Tumblr (Opens in new window)\n				Tumblr\n			\n				Email a link to a friend (Opens in new window)\n				Email\n			\n				Print (Opens in new window)\n				Print\n			Like this:Like Loading...
URL:https://retromaniatalent.com/event/ronnie-raygun-private-funktion-10/
LOCATION:CO
CATEGORIES:Ronnie Raygun
END:VEVENT
BEGIN:VEVENT
DTSTART;TZID=America/Denver:20251218T183000
DTEND;TZID=America/Denver:20251218T213000
DTSTAMP:20260423T123937
CREATED:20250730T213712Z
LAST-MODIFIED:20250730T213712Z
UID:8098-1766082600-1766093400@retromaniatalent.com
SUMMARY:Ronnie Raygun @ Christkindle Market
DESCRIPTION:The Denver Christkindlmarket is an authentic\, German-style holiday market\, which is host to local and European craft and food vendors\, and tons of magical entertainment for everyone to enjoy. The Denver Christkindlmarket is a must-see (and must-taste!) holiday experience. Free and open to the public. \nWear your Ugly Christmas Sweaters! \nShare this:\n				Share on Facebook (Opens in new window)\n				Facebook\n			\n				Share on X (Opens in new window)\n				X\n			\n				Share on Pinterest (Opens in new window)\n				Pinterest\n			\n				Share on LinkedIn (Opens in new window)\n				LinkedIn\n			\n				Share on Reddit (Opens in new window)\n				Reddit\n			\n				Share on Tumblr (Opens in new window)\n				Tumblr\n			\n				Email a link to a friend (Opens in new window)\n				Email\n			\n				Print (Opens in new window)\n				Print\n			Like this:Like Loading...
URL:https://retromaniatalent.com/event/ronnie-raygun-christkindle-market/
LOCATION:Auraria Campus\, Tivoli Quad 1000 Larimer St.\, Denver\, Colorado
CATEGORIES:Ronnie Raygun
END:VEVENT
BEGIN:VEVENT
DTSTART;VALUE=DATE:20251219
DTEND;VALUE=DATE:20251221
DTSTAMP:20260423T123937
CREATED:20250927T191024Z
LAST-MODIFIED:20251010T010729Z
UID:8275-1766113200-1766199599@retromaniatalent.com
SUMMARY:Boogie Machine @ Private Funktion
DESCRIPTION:Share this:\n				Share on Facebook (Opens in new window)\n				Facebook\n			\n				Share on X (Opens in new window)\n				X\n			\n				Share on Pinterest (Opens in new window)\n				Pinterest\n			\n				Share on LinkedIn (Opens in new window)\n				LinkedIn\n			\n				Share on Reddit (Opens in new window)\n				Reddit\n			\n				Share on Tumblr (Opens in new window)\n				Tumblr\n			\n				Email a link to a friend (Opens in new window)\n				Email\n			\n				Print (Opens in new window)\n				Print\n			Like this:Like Loading...
URL:https://retromaniatalent.com/event/ronnie-saygun-private-funktion-2/
LOCATION:CO
CATEGORIES:Boogie Machine
END:VEVENT
BEGIN:VEVENT
DTSTART;TZID=America/Denver:20251231T200000
DTEND;TZID=America/Denver:20251231T210000
DTSTAMP:20260423T123937
CREATED:20250708T015936Z
LAST-MODIFIED:20251210T202516Z
UID:8010-1767211200-1767214800@retromaniatalent.com
SUMMARY:Boogie Machine @ The Brown Palace
DESCRIPTION:Celebrate Midnight at The Brown\, an elegant New Year’s Eve affair set beneath our iconic atrium. Enjoy an evening of live music\, dancing\, and timeless celebration as we welcome 2026 in true Brown Palace style. \nEvent Details: \n8:00 PM – 1:00 AM \nWelcome glass of champagne upon arrival \nLive Music by Ronnie Raygun’s Boogie Machine \nDancing \nSmall bites throughout the evening \nMidnight champagne toast \nCash bars available \n**21+ only \nAdditional Information\n*Complimentary access for hotel guests and Palace Arms dinner reservations. \n\n  \nShare this:\n				Share on Facebook (Opens in new window)\n				Facebook\n			\n				Share on X (Opens in new window)\n				X\n			\n				Share on Pinterest (Opens in new window)\n				Pinterest\n			\n				Share on LinkedIn (Opens in new window)\n				LinkedIn\n			\n				Share on Reddit (Opens in new window)\n				Reddit\n			\n				Share on Tumblr (Opens in new window)\n				Tumblr\n			\n				Email a link to a friend (Opens in new window)\n				Email\n			\n				Print (Opens in new window)\n				Print\n			Like this:Like Loading...
URL:https://retromaniatalent.com/event/boogie-machine-the-brown-palace/
LOCATION:Brown Palace\, 321 17th St.\, Denver\, Colorado
CATEGORIES:Boogie Machine
END:VEVENT
END:VCALENDAR